BEGIN:VCALENDAR
VERSION:2.0
PRODID:-//Eco-Manifestations Alsace - ECPv6.15.11//NONSGML v1.0//EN
CALSCALE:GREGORIAN
METHOD:PUBLISH
X-ORIGINAL-URL:https://ecomanifestations-alsace.fr
X-WR-CALDESC:Évènements pour Eco-Manifestations Alsace
REFRESH-INTERVAL;VALUE=DURATION:PT1H
X-Robots-Tag:noindex
X-PUBLISHED-TTL:PT1H
BEGIN:VTIMEZONE
TZID:Europe/Paris
BEGIN:DAYLIGHT
TZOFFSETFROM:+0100
TZOFFSETTO:+0200
TZNAME:CEST
DTSTART:20160327T010000
END:DAYLIGHT
BEGIN:STANDARD
TZOFFSETFROM:+0200
TZOFFSETTO:+0100
TZNAME:CET
DTSTART:20161030T010000
END:STANDARD
BEGIN:DAYLIGHT
TZOFFSETFROM:+0100
TZOFFSETTO:+0200
TZNAME:CEST
DTSTART:20170326T010000
END:DAYLIGHT
BEGIN:STANDARD
TZOFFSETFROM:+0200
TZOFFSETTO:+0100
TZNAME:CET
DTSTART:20171029T010000
END:STANDARD
BEGIN:DAYLIGHT
TZOFFSETFROM:+0100
TZOFFSETTO:+0200
TZNAME:CEST
DTSTART:20180325T010000
END:DAYLIGHT
BEGIN:STANDARD
TZOFFSETFROM:+0200
TZOFFSETTO:+0100
TZNAME:CET
DTSTART:20181028T010000
END:STANDARD
END:VTIMEZONE
BEGIN:VEVENT
DTSTART;TZID=Europe/Paris:20170302T173000
DTEND;TZID=Europe/Paris:20170302T190000
DTSTAMP:20260425T210926
CREATED:20170123T070348Z
LAST-MODIFIED:20170123T070348Z
UID:7957-1488475800-1488481200@ecomanifestations-alsace.fr
SUMMARY:Atelier "désencombrer sa maison et réduire ses déchets"
DESCRIPTION:Jeudi 2 mars\, atelier « désencombrer sa maison et réduire ses déchets »\, avec Celine PORTAL à 17h30 à Cernay (68) \nPlus d’informations : Vie verte \n 
URL:https://ecomanifestations-alsace.fr/event/atelier-desencombrer-maison-reduire-dechets/
LOCATION:Cernay
END:VEVENT
BEGIN:VEVENT
DTSTART;TZID=Europe/Paris:20170305T090000
DTEND;TZID=Europe/Paris:20170305T180000
DTSTAMP:20260425T210926
CREATED:20170301T091017Z
LAST-MODIFIED:20170301T091046Z
UID:8116-1488704400-1488736800@ecomanifestations-alsace.fr
SUMMARY:Ecobio-Regio\, le salon de l'autrement bon
DESCRIPTION:Dimanche 5 mars 2017 à partir de 9h à HEGENHEIM aura lieu le salon de l’autrement bon\, de la qualité de vie et des énergies naturelles.
URL:https://ecomanifestations-alsace.fr/event/ecobio-regio-salon-de-lautrement/
LOCATION:HEGENHEIM
END:VEVENT
BEGIN:VEVENT
DTSTART;TZID=Europe/Paris:20170328T200000
DTEND;TZID=Europe/Paris:20170328T230000
DTSTAMP:20260425T210926
CREATED:20170320T082810Z
LAST-MODIFIED:20170320T082810Z
UID:8176-1490731200-1490742000@ecomanifestations-alsace.fr
SUMMARY:Projection débat - Nouveau Monde
DESCRIPTION:Colibris 67\, en partenariat avec l’Odyssée vous invite à la projection du film de Yann Trichet\, « Nouveau Monde ». \nCette projection sera suivie par un débat avec le public animé par les Colibris 67\, sur les solutions de transition écologiques et humaines déjà existantes et en cours de développement ici à Strasbourg et en Alsace.\nSolutions auxquelles vous pourrez rajouter votre goutte d’eau si vous le souhaitez ! \nEn venant de la part des Colibris\, vous bénéficierez d’un prix de billet réfuit à 5 €. Merci de le signaler à l’entrée.
URL:https://ecomanifestations-alsace.fr/event/projection-debat-nouveau-monde/
LOCATION:Cinéma Odyssée\, 3\, rue des Francs Bourgeois\, Strasbourg\, 67000 
END:VEVENT
END:VCALENDAR