BEGIN:VCALENDAR
VERSION:2.0
PRODID:-//Eco-Manifestations Alsace - ECPv6.15.11//NONSGML v1.0//EN
CALSCALE:GREGORIAN
METHOD:PUBLISH
X-ORIGINAL-URL:https://ecomanifestations-alsace.fr
X-WR-CALDESC:Évènements pour Eco-Manifestations Alsace
REFRESH-INTERVAL;VALUE=DURATION:PT1H
X-Robots-Tag:noindex
X-PUBLISHED-TTL:PT1H
BEGIN:VTIMEZONE
TZID:Europe/Paris
BEGIN:DAYLIGHT
TZOFFSETFROM:+0100
TZOFFSETTO:+0200
TZNAME:CEST
DTSTART:20160327T010000
END:DAYLIGHT
BEGIN:STANDARD
TZOFFSETFROM:+0200
TZOFFSETTO:+0100
TZNAME:CET
DTSTART:20161030T010000
END:STANDARD
BEGIN:DAYLIGHT
TZOFFSETFROM:+0100
TZOFFSETTO:+0200
TZNAME:CEST
DTSTART:20170326T010000
END:DAYLIGHT
BEGIN:STANDARD
TZOFFSETFROM:+0200
TZOFFSETTO:+0100
TZNAME:CET
DTSTART:20171029T010000
END:STANDARD
BEGIN:DAYLIGHT
TZOFFSETFROM:+0100
TZOFFSETTO:+0200
TZNAME:CEST
DTSTART:20180325T010000
END:DAYLIGHT
BEGIN:STANDARD
TZOFFSETFROM:+0200
TZOFFSETTO:+0100
TZNAME:CET
DTSTART:20181028T010000
END:STANDARD
END:VTIMEZONE
BEGIN:VEVENT
DTSTART;TZID=Europe/Paris:20170418T200000
DTEND;TZID=Europe/Paris:20170418T230000
DTSTAMP:20260425T142814
CREATED:20170331T065454Z
LAST-MODIFIED:20170331T065454Z
UID:8206-1492545600-1492556400@ecomanifestations-alsace.fr
SUMMARY:Projection-débat du film Power to Change - de Carl A. Fechner
DESCRIPTION:http://www.jupiter-films.com/film-power-to-change-60.php \nPower to Change : La Rébellion Énergétique présente la vision d’un futur où l’énergie est à 100% renouvelable.\nDepuis quelques années\, des centaines de milliers d’individus font de cette vision une réalité. Précurseurs\, inventeurs\, visionnaires… ces pionniers de la transition énergétique contribuent\, par leurs actions locales\, à la révolution énergétique de tout un pays.\nCe film est un plaidoyer pour une mise en oeuvre rapide de cette révolution. Chacun d’entre nous\, à son échelle\, peut devenir un rebelle énergétique.
URL:https://ecomanifestations-alsace.fr/event/projection-debat-film-power-to-change-de-carl-a-fechner/
LOCATION:cinéma l’Odyssée\, 3\, rue des Francs Bourgeois\, Strasbourg\, 67000\, France
END:VEVENT
BEGIN:VEVENT
DTSTART;TZID=Europe/Paris:20170419T180000
DTEND;TZID=Europe/Paris:20170419T200000
DTSTAMP:20260425T142814
CREATED:20170404T111420Z
LAST-MODIFIED:20170404T111459Z
UID:8217-1492624800-1492632000@ecomanifestations-alsace.fr
SUMMARY:Café des alternatives : les éco-manifestations
DESCRIPTION:Thématique : les éo-manifestation\, diagnostic\, outils et pistes d’actions\n\nQu’est ce qu’une éco-manifestation ? \n« Un éco événement est une manifestation qui réduit ses impacts négatifs sur l’environnement\, soutient une économie sociale et solidaire\, associe des partenaires locaux\, facilite l’accès à tous et promeut les valeurs du développement durable. » \n  \nRendez-vous à la Maison des Berges à Mulhouse pour échanger sur les pistes d’actions que l’on peut mettre en oeuvre dans le cadre d’une manifestation – 18h à 20h.
URL:https://ecomanifestations-alsace.fr/event/cafe-alternatives-eco-manifestations/
END:VEVENT
END:VCALENDAR