BEGIN:VCALENDAR
VERSION:2.0
PRODID:-//Eco-Manifestations Alsace - ECPv6.15.11//NONSGML v1.0//EN
CALSCALE:GREGORIAN
METHOD:PUBLISH
X-WR-CALNAME:Eco-Manifestations Alsace
X-ORIGINAL-URL:https://ecomanifestations-alsace.fr
X-WR-CALDESC:Évènements pour Eco-Manifestations Alsace
REFRESH-INTERVAL;VALUE=DURATION:PT1H
X-Robots-Tag:noindex
X-PUBLISHED-TTL:PT1H
BEGIN:VTIMEZONE
TZID:Europe/Paris
BEGIN:DAYLIGHT
TZOFFSETFROM:+0100
TZOFFSETTO:+0200
TZNAME:CEST
DTSTART:20160327T010000
END:DAYLIGHT
BEGIN:STANDARD
TZOFFSETFROM:+0200
TZOFFSETTO:+0100
TZNAME:CET
DTSTART:20161030T010000
END:STANDARD
BEGIN:DAYLIGHT
TZOFFSETFROM:+0100
TZOFFSETTO:+0200
TZNAME:CEST
DTSTART:20170326T010000
END:DAYLIGHT
BEGIN:STANDARD
TZOFFSETFROM:+0200
TZOFFSETTO:+0100
TZNAME:CET
DTSTART:20171029T010000
END:STANDARD
BEGIN:DAYLIGHT
TZOFFSETFROM:+0100
TZOFFSETTO:+0200
TZNAME:CEST
DTSTART:20180325T010000
END:DAYLIGHT
BEGIN:STANDARD
TZOFFSETFROM:+0200
TZOFFSETTO:+0100
TZNAME:CET
DTSTART:20181028T010000
END:STANDARD
END:VTIMEZONE
BEGIN:VEVENT
DTSTART;VALUE=DATE:20170519
DTEND;VALUE=DATE:20170525
DTSTAMP:20260425T123539
CREATED:20170519T110037Z
LAST-MODIFIED:20170519T110037Z
UID:8332-1495152000-1495670399@ecomanifestations-alsace.fr
SUMMARY:Vél.Art' : Expo-vente d'art et artisanat des amoureux du vélo
DESCRIPTION:Strasbourg accueille la première édition de Vél.Art’\, un événement par et pour les amoureux du vélo. \nCinq créateurs organisent pour vous du 19 au 24 mai une exposition-vente d’objets artisanaux et œuvres d’art : accessoires\, lampes\, bijoux\, ceintures\, peintures\, photographies… créés à partir de pièces de vélo ou destinés aux cyclistes. \nLe vernissage de l’exposition aura lieu vendredi 19 mai à partir de 18h. \n \nDu vendredi 19 au mercredi 24 mai.  \nLieu : Libre Objet Strasbourg – 91 route des romains\, 67200 Strasbourg
URL:https://ecomanifestations-alsace.fr/event/vel-art-expo-vente-dart-artisanat-amoureux-velo/
END:VEVENT
BEGIN:VEVENT
DTSTART;VALUE=DATE:20170525
DTEND;VALUE=DATE:20170529
DTSTAMP:20260425T123539
CREATED:20170321T092712Z
LAST-MODIFIED:20170404T111633Z
UID:8185-1495670400-1496015999@ecomanifestations-alsace.fr
SUMMARY:Foire Eco Bio Alsace
DESCRIPTION:La Foire Eco Bio d’Alsace un évènement convivial pour découvrir des alternatives positives pour l’Homme et l’environnement \nhttp://www.ecobio.alsace/
URL:https://ecomanifestations-alsace.fr/event/foire-eco-bio-alsace/
LOCATION:Foire Eco Bio\, 27\, rue du canal\,  Soultzmatt
END:VEVENT
BEGIN:VEVENT
DTSTART;VALUE=DATE:20170529
DTEND;VALUE=DATE:20170606
DTSTAMP:20260425T123539
CREATED:20170331T064812Z
LAST-MODIFIED:20170331T064812Z
UID:8203-1496016000-1496707199@ecomanifestations-alsace.fr
SUMMARY:Semaine européenne du développement durable
DESCRIPTION:http://evenements.developpement-durable.gouv.fr/campagne/sedd2017
URL:https://ecomanifestations-alsace.fr/event/semaine-europeenne-developpement-durable/
END:VEVENT
END:VCALENDAR