BEGIN:VCALENDAR
VERSION:2.0
PRODID:-//Eco-Manifestations Alsace - ECPv6.15.11//NONSGML v1.0//EN
CALSCALE:GREGORIAN
METHOD:PUBLISH
X-ORIGINAL-URL:https://ecomanifestations-alsace.fr
X-WR-CALDESC:Évènements pour Eco-Manifestations Alsace
REFRESH-INTERVAL;VALUE=DURATION:PT1H
X-Robots-Tag:noindex
X-PUBLISHED-TTL:PT1H
BEGIN:VTIMEZONE
TZID:Europe/Paris
BEGIN:DAYLIGHT
TZOFFSETFROM:+0100
TZOFFSETTO:+0200
TZNAME:CEST
DTSTART:20160327T010000
END:DAYLIGHT
BEGIN:STANDARD
TZOFFSETFROM:+0200
TZOFFSETTO:+0100
TZNAME:CET
DTSTART:20161030T010000
END:STANDARD
BEGIN:DAYLIGHT
TZOFFSETFROM:+0100
TZOFFSETTO:+0200
TZNAME:CEST
DTSTART:20170326T010000
END:DAYLIGHT
BEGIN:STANDARD
TZOFFSETFROM:+0200
TZOFFSETTO:+0100
TZNAME:CET
DTSTART:20171029T010000
END:STANDARD
BEGIN:DAYLIGHT
TZOFFSETFROM:+0100
TZOFFSETTO:+0200
TZNAME:CEST
DTSTART:20180325T010000
END:DAYLIGHT
BEGIN:STANDARD
TZOFFSETFROM:+0200
TZOFFSETTO:+0100
TZNAME:CET
DTSTART:20181028T010000
END:STANDARD
END:VTIMEZONE
BEGIN:VEVENT
DTSTART;TZID=Europe/Paris:20170827T100000
DTEND;TZID=Europe/Paris:20170827T200000
DTSTAMP:20260425T044709
CREATED:20170809T064443Z
LAST-MODIFIED:20170809T064954Z
UID:8619-1503828000-1503864000@ecomanifestations-alsace.fr
SUMMARY:Les activ'été d'Alsace Nature
DESCRIPTION:Le Groupe Jeunes d’Alsace Nature\, constitué de jeunes pousses activistes\, sensibles à la protection de l’environnement\, a créé un évènement inédit!\nNous avons voulu cette journée pour permettre à chacun de s’engager et de se mobiliser pour sauver notre belle planète. Dans un esprit bon enfant et d’entre-aide\, nous vous invitons à vous joindre à nous 🙂 Il y en aura pour tout les goûts ! \nVous êtes sportif et sensible à la protection de l’environnement ? Venez donc à notre course ecoresponsable. Trois départs sont prévus dans la matinée pour petits et grands. \n– À 9h les enfants et jeunes ados pourrons commencer la journée de bon train par une course de 1 km dans la nature.\n– À 9h30\, pour les sportifs du dimanche\, une course de 5 km est prévue\, en pleine forêt de la Robertsau.\n– Et à 10h30\, ce sera le départ d’une course de 10 km\, toujours à travers la forêt\, pour les plus sportifs d’entre vous. \nPour vous inscrire\, c’est par ici :\n5 et 10 km : http://sporkrono.fr/index.php/article-alsace-nature\n1 km: http://alncivi.fne-apne.net/civicrm/event/info?reset=1&id=36 \nVous n’êtes pas une coureuse ou un coureur né ? Pas de soucis il y a des Activ’été pour vous aussi 🙂 \nA partir de 10h\, et jusqu’à 20h\, à la ferme Bussierre et dans le parc de Pourtalès\, vous pourrez participer à de nombreux ateliers nature.\nDans un véritable petit village associatif pour pourrez apprendre à cuisiner vegan\, à fabriquer vos propres cosmétiques et produits d’entretien\, faire votre compost\, à reconnaître le chant des oiseaux\, mais vous pourrez aussi faire de la course en sac en plein air\, et bien d’autre encore! \nVous pourrez également vous restaurer sur place\, en mangeant bio et local. \n>> Page facebook de l’événement ici.
URL:https://ecomanifestations-alsace.fr/event/activete-dalsace-nature/
LOCATION:CINE de Bussierre\, 155 rue Kempf\, Strasbourg\, 67000
END:VEVENT
END:VCALENDAR