BEGIN:VCALENDAR
VERSION:2.0
PRODID:-//Eco-Manifestations Alsace - ECPv6.15.11//NONSGML v1.0//EN
CALSCALE:GREGORIAN
METHOD:PUBLISH
X-WR-CALNAME:Eco-Manifestations Alsace
X-ORIGINAL-URL:https://ecomanifestations-alsace.fr
X-WR-CALDESC:Évènements pour Eco-Manifestations Alsace
REFRESH-INTERVAL;VALUE=DURATION:PT1H
X-Robots-Tag:noindex
X-PUBLISHED-TTL:PT1H
BEGIN:VTIMEZONE
TZID:Europe/Paris
BEGIN:DAYLIGHT
TZOFFSETFROM:+0100
TZOFFSETTO:+0200
TZNAME:CEST
DTSTART:20160327T010000
END:DAYLIGHT
BEGIN:STANDARD
TZOFFSETFROM:+0200
TZOFFSETTO:+0100
TZNAME:CET
DTSTART:20161030T010000
END:STANDARD
BEGIN:DAYLIGHT
TZOFFSETFROM:+0100
TZOFFSETTO:+0200
TZNAME:CEST
DTSTART:20170326T010000
END:DAYLIGHT
BEGIN:STANDARD
TZOFFSETFROM:+0200
TZOFFSETTO:+0100
TZNAME:CET
DTSTART:20171029T010000
END:STANDARD
BEGIN:DAYLIGHT
TZOFFSETFROM:+0100
TZOFFSETTO:+0200
TZNAME:CEST
DTSTART:20180325T010000
END:DAYLIGHT
BEGIN:STANDARD
TZOFFSETFROM:+0200
TZOFFSETTO:+0100
TZNAME:CET
DTSTART:20181028T010000
END:STANDARD
END:VTIMEZONE
BEGIN:VEVENT
DTSTART;VALUE=DATE:20170910
DTEND;VALUE=DATE:20170911
DTSTAMP:20260425T011120
CREATED:20170807T111634Z
LAST-MODIFIED:20170810T093715Z
UID:8600-1505001600-1505087999@ecomanifestations-alsace.fr
SUMMARY:[ PARTENAIRE EMA ] Randonnée gastronomique Forêts et Terroir à Wingen
DESCRIPTION:Comme chaque année\, l’Amicale des Sapeurs-Pompiers de Wingen organise sa traditionnelle randonnée gourmande. \nCircuit de 12 km environ ponctué de 7 étapes gourmandes. \nAu menu : oeuf sur le plat et lardons\, terrine de sanglier\, apéritif et bretzel\, filet de truite fumée\, bouchée à la reine\, fromage de chèvre et dessert aux fruits de saison. Un verre de vin ou de jus de pomme\, compris dans le prix\, sera servi à chaque étape. \nSur inscription avant le 4 septembre.\nTarifs : Payant\nType de randonnée\, visite organisée\, activité : Randonnée gourmande \nLes organisateurs s’engagent dans une démarche de développement durable ! Pour en savoir plus\, cliquez ici.
URL:https://ecomanifestations-alsace.fr/event/randonnee-gastronomique-forets-terroir-a-wingen/
LOCATION:2 Rue Du Stade\, 2 Rue Du Stade\, Wingen\, 67510
END:VEVENT
BEGIN:VEVENT
DTSTART;TZID=Europe/Paris:20170910T090000
DTEND;TZID=Europe/Paris:20170910T200000
DTSTAMP:20260425T011120
CREATED:20170807T074859Z
LAST-MODIFIED:20170807T074859Z
UID:8597-1505034000-1505073600@ecomanifestations-alsace.fr
SUMMARY:Vélo Gourmand de l’Eurodistrict Strasbourg-Ortenau
DESCRIPTION:Le Vélo Gourmand de l’Eurodistrict Strasbourg-Ortenau approche à grands pas ! \n Rendez-vous le dimanche 10 septembre 2017 pour combiner le plaisir d’une balade à vélo et la dégustation de produits de saison ??? \n⚠️ Inscription avant le 04.09 : http://www.eurodistrict.eu/fr/inscription-anmeldung  \n———— \nAprès les « Vélotour » en 2013 et le « Tour Eurodistrict » en 2014\, l’Eurodistrict Strasbourg-Ortenau fait revivre cette année ses actions pour le grand public avec un soutien d’INTERREG et lance sa journée de \n« Vélo Gourmand » le dimanche 10 septembre 2017 \nCette nouvelle formule est constituée d’un parcours cycliste reliant Strasbourg (Jardins des Deux Rives) à Oberkirch\, soit une distance de 34 km pour un trajet. Notre souhait est de vous faire découvrir la belle région de l’Eurodistrict en allant à la rencontre des producteurs franco-allemands des deux côtés du Rhin. Dans une ambiance décontractée\, vous pourrez ainsi combiner le plaisir du cyclisme et la dégustation de produits de saison. Une sortie au grand air riche en découvertes pour toute la famille\, dans un cadre bucolique et chaleureux ! \n  \nOù et quand a lieu le départ ? \nIl sera possible de choisir entre deux points de départ principaux :\n–> Départ 1 : Strasbourg Jardin des Deux Rives : 09h30 – 10h30 (max. 34 km)\n–> Départ 2 : Appenweier Gare\, Am Kehler Bogen : 10h00 – 11h30 (max. 17 km) \n(À titre exceptionnel\, il sera possible de commencer le parcours également à Willstätt et à Ulm.)\nMerci d’indiquer le point de départ de votre choix lors de l’inscription. \nIl est possible de se rendre en train directement à Appenweier depuis Strasbourg. Des parkings sont aussi à disposition. Une fois sur place\, vous serez accueillis par notre équipe qui vous fournira la documentation nécessaire (plan du parcours\, bons pour les dégustations). \nQuel est le trajet ?\nLe parcours\, également adapté aux familles avec enfants\, vous mènera de Strasbourg à Oberkirch en suivant des pistes cyclables\, en majorité hors des grands axes routiers. Il vous fera longer la rivière Kinzig entre Kehl et Willstätt. Puis entre Appenweier et Oberkirch vous traverserez les champs\, vergers et villages typiques de l’Ortenau. \nDes stations de dégustation rythmeront le parcours – notamment à Willstätt\, Appenweier/Urloffen\, Ulm et Oberkirch – où vous serez accueillis par des producteurs locaux pour vous faire goûter leurs spécialités. Musique et animations pour enfants seront aussi assurées à ces points d’étapes. Une grande rencontre est organisée au point d’arrivée dans la ville d’Oberkirch. \nLes associations de vélo Staubwolke Haslach e.V. et Skiclub Oberkirch nous épaulent en tant que partenaire. Leurs membres expérimentés seront présents le long du chemin. Une assistance technique sera également assurée en cas de besoin. \nComment peut-on revenir ?\nLe retour depuis Oberkirch pourra se faire individuellement en vélo ou en train. Des bus Oberkirch-Appenweier\, et Oberkirch-Strasbourg avec porte-vélos seront aussi mis à disposition. Le nombre de places étant limité\, nous vous prions de bien vouloir réserver lors de votre inscription en ligne. \n… et maintenant : Hopla\, tous en selle !  Venez nombreux et en famille ! \n  \nLa participation est gratuite. Afin de garantir le bon déroulement de l’événement merci de vous inscrire ici avant le 04.09.2017. Si un contretemps vous empêche de venir veuillez également nous prévenir.
URL:https://ecomanifestations-alsace.fr/event/velo-gourmand-de-leurodistrict-strasbourg-ortenau/
END:VEVENT
BEGIN:VEVENT
DTSTART;VALUE=DATE:20170915
DTEND;VALUE=DATE:20170918
DTSTAMP:20260425T011120
CREATED:20170809T105452Z
LAST-MODIFIED:20170809T105452Z
UID:8629-1505433600-1505692799@ecomanifestations-alsace.fr
SUMMARY:BiObernai - Le Salon de l'Agriculture Biologique
DESCRIPTION:Organisé depuis 14 ans\, dans l’esprit convivial d’un grand marché à ciel ouvert face aux remparts de la ville historique d’Obernai\, BiObernai\, le salon de l’agriculture biologique en Alsace\, invite chaque année plus de 21 000 visiteurs à venir se plonger dans l’univers du bio d’Alsace et d’ailleurs. \n  \nUn salon vitrine du bio\, un marché en plein essor\nLe nombre croissant de visiteurs montre un engouement sans précédant pour le « bio ».\nLes médias se font d’ailleurs largement l’écho de cette tendance de société au développement spectaculaire. Adeptes d’un mode de vie plus respectueux et éthique de leur santé et de l’environnement ou simple néophyte en quête d’une initiation à cet univers\, le public de BiObernai a la possibilité durant 3 jours d’appréhender la culture bio sous de multiples facettes : en rassemblant de nombreux acteurs de la filière bio d’Alsace et d’ailleurs\, BiObernai offre à ses visiteurs un espace d’information\, de rencontres\, d’échanges et de partages autour de ce qui est en train de devenir un véritable mode de vie et de consommation porteur de valeurs plébiscitées : authenticité\, respect\, éthique\, solidarité\, consommation responsable et collaborative\, … \nUn salon à l’esprit convivial d’une grande fête de village\nConçu dans l’esprit convivial d’une grande fête de village\, aux pieds de remparts de la ville pittoresque d’Obernai\, BiObernai propose aux visiteurs un parcours de visite à travers différents espaces thématiques : quels que soient ses attentes\, besoins ou centres d’intérêts\, chacun peut y explorer\, à son rythme\, les différentes facettes du bio. Outre la possibilité d’y faire ses achats directement auprès des exposants\, une multitude d’activités\, toujours guidées dans un esprit collaboratif\, pédagogique et ludique est proposée pour satisfaire tous les publics : conférences et ateliers thématiques (bien-être & santé\, environnement\, écomobilité\, initiatives locales solidaires\, etc)\, nombreuses animations pour petits et grands (ateliers enfants\, ateliers cuisine\, ateliers bien-être…)\, déambulations et prestations artistiques mêlant humour et poésie …\nBiObernai est devenu au fil des années une manifestation où il fait bon venir en famille ou entre amis\, pour une journée ou plus. \nNouveauté 2017 : des navettes au départ de STRASBOURG Gare et GENGENBACH samedi 16 et dimanche 17 (Départ 10h / Retour 17h). Réservation impérative.
URL:https://ecomanifestations-alsace.fr/event/biobernai-salon-de-lagriculture-biologique/
END:VEVENT
BEGIN:VEVENT
DTSTART;VALUE=DATE:20170916
DTEND;VALUE=DATE:20170918
DTSTAMP:20260425T011120
CREATED:20170809T062330Z
LAST-MODIFIED:20170809T062330Z
UID:8616-1505520000-1505692799@ecomanifestations-alsace.fr
SUMMARY:[ PARTENAIRE EMA ] Street Food Music Festival Strasbourg #2
DESCRIPTION:Street Bouche fait son retour pour la deuxième édition de son festival.\nRendez-vous les 16 et 17 Septembre sur un nouvel espace pour un évènement encore plus grand et riche en surprises! \nLe programme – 2 jours de festivités culinaires avec :\n~ 30 restaurateurs Français\, Allemands\, Belges et Suisses\n~ 20 stands dédiés aux producteurs et artisans locaux\n~ Des Dj’s tout au long du week-end\n~ Des animations culinaires et jeux pour les petits \nLieu :\nRue de la Coopérative\n67000 Strasbourg \nDates & Horaires :\nSamedi 16 septembre: 11:00 – 23:00\nDimanche 17 septembre: 10:00 – 21:00
URL:https://ecomanifestations-alsace.fr/event/partenaire-ema-street-food-music-festival-strasbourg-2/
END:VEVENT
BEGIN:VEVENT
DTSTART;TZID=Europe/Paris:20170923T090000
DTEND;TZID=Europe/Paris:20170924T190000
DTSTAMP:20260425T011120
CREATED:20170721T111527Z
LAST-MODIFIED:20170721T111642Z
UID:8520-1506157200-1506279600@ecomanifestations-alsace.fr
SUMMARY:La Rentrée des Associations à Strasbourg
DESCRIPTION:Samedi 23 et dimanche 24 septembre 2017\, Éco-Manifestations Alsace tiendra un stand à La Rentrée de Associations de Strasbourg pour présenter ses activités et ses travaux en cours. \nVenez nombreux nous retrouver au Parc de la Citadelle ! \nPlus d’informations sont à venir très prochainement 🙂
URL:https://ecomanifestations-alsace.fr/event/8520/
LOCATION:Parc de la Citadelle\, Strasbourg
END:VEVENT
BEGIN:VEVENT
DTSTART;TZID=Europe/Paris:20170929T083000
DTEND;TZID=Europe/Paris:20170929T203000
DTSTAMP:20260425T011120
CREATED:20170705T133014Z
LAST-MODIFIED:20170705T133014Z
UID:8439-1506673800-1506717000@ecomanifestations-alsace.fr
SUMMARY:Forum entreprise et perspectives
DESCRIPTION:Venez nombreux au Forum « entreprise et perspectives » à Sélestat le 29 septembre 2017 ! \nDe 15h15 à 16h\, Éco-Manifestations Alsace anime un atelier sur les actions à mettre en place pour réduire l’impact environnemental de sa manifestation !
URL:https://ecomanifestations-alsace.fr/event/forum-entreprise-perspectives/
END:VEVENT
BEGIN:VEVENT
DTSTART;TZID=Europe/Paris:20170930T160000
DTEND;TZID=Europe/Paris:20170930T210000
DTSTAMP:20260425T011120
CREATED:20170918T111805Z
LAST-MODIFIED:20170918T111805Z
UID:8690-1506787200-1506805200@ecomanifestations-alsace.fr
SUMMARY:Tout sur le Zéro Déchet !
DESCRIPTION:Lancement officiel des Défis Foyers Zéro Déchet de Strasbourg ! \nCet évenement est ouvert à tous\, l’entrée est libre\, dans la limite des places disponibles.\nCe sera l’occasion de venir découvrir le mouvement Zéro Déchet\, et de célébrer avec nous le début d’une expérience participative qui sera menée pendant 6 mois avec les foyers sélectionnés cet été.\n \n16h-18h30 : Conférence à 3 voix \nLaura Chatel\, Zéro Waste France\nPrésentation du mouvement Zero Waste en France\, initiatives citoyennes\, entrepreneuriales et territoriales qui se développent en France. \nDaisy Maslo\, Surf Rider\nSurfrider Foundation Europe : leurs actions\, impacts des déchets sur le milieu aquatique (et en particuliers plastique) \nCéline Portal\, formatrice en Eco-consommation\n« zéro déchet : comment alléger sa vie » \n19h : apéritif convivial\, en présence des élus \nLIEU\nCentre administratif\nSalle des Conseils\n1 parc de l’éoile\n67000 Strasbourg
URL:https://ecomanifestations-alsace.fr/event/tout-sur-le-zero-dechet/
END:VEVENT
END:VCALENDAR