BEGIN:VCALENDAR
VERSION:2.0
PRODID:-//Eco-Manifestations Alsace - ECPv6.15.11//NONSGML v1.0//EN
CALSCALE:GREGORIAN
METHOD:PUBLISH
X-WR-CALNAME:Eco-Manifestations Alsace
X-ORIGINAL-URL:https://ecomanifestations-alsace.fr
X-WR-CALDESC:Évènements pour Eco-Manifestations Alsace
REFRESH-INTERVAL;VALUE=DURATION:PT1H
X-Robots-Tag:noindex
X-PUBLISHED-TTL:PT1H
BEGIN:VTIMEZONE
TZID:Europe/Paris
BEGIN:DAYLIGHT
TZOFFSETFROM:+0100
TZOFFSETTO:+0200
TZNAME:CEST
DTSTART:20160327T010000
END:DAYLIGHT
BEGIN:STANDARD
TZOFFSETFROM:+0200
TZOFFSETTO:+0100
TZNAME:CET
DTSTART:20161030T010000
END:STANDARD
BEGIN:DAYLIGHT
TZOFFSETFROM:+0100
TZOFFSETTO:+0200
TZNAME:CEST
DTSTART:20170326T010000
END:DAYLIGHT
BEGIN:STANDARD
TZOFFSETFROM:+0200
TZOFFSETTO:+0100
TZNAME:CET
DTSTART:20171029T010000
END:STANDARD
BEGIN:DAYLIGHT
TZOFFSETFROM:+0100
TZOFFSETTO:+0200
TZNAME:CEST
DTSTART:20180325T010000
END:DAYLIGHT
BEGIN:STANDARD
TZOFFSETFROM:+0200
TZOFFSETTO:+0100
TZNAME:CET
DTSTART:20181028T010000
END:STANDARD
END:VTIMEZONE
BEGIN:VEVENT
DTSTART;VALUE=DATE:20171014
DTEND;VALUE=DATE:20171015
DTSTAMP:20260425T123529
CREATED:20170809T130158Z
LAST-MODIFIED:20170809T130307Z
UID:8638-1507939200-1508025599@ecomanifestations-alsace.fr
SUMMARY:[ PARTENAIRE EMA ] Fête du Monde de Saverne
DESCRIPTION:La Fête du Monde offre un tour du monde avec chants\, danses\, musiques et gastronomies du monde. \nOrganisée par le Centre socio-culturel de l’Ilôt du Moulin. \n(Informations à venir)
URL:https://ecomanifestations-alsace.fr/event/partenaire-ema-fete-monde-de-saverne/
END:VEVENT
BEGIN:VEVENT
DTSTART;TZID=Europe/Paris:20171014T090000
DTEND;TZID=Europe/Paris:20171014T130000
DTSTAMP:20260425T123529
CREATED:20170809T130040Z
LAST-MODIFIED:20170809T130040Z
UID:8634-1507971600-1507986000@ecomanifestations-alsace.fr
SUMMARY:ENSEMBLE\, NETTOYONS LA MONTAGNE
DESCRIPTION:La station du Markstein Grand Ballon et l’association Mountain Riders organisent un grand ramassage de déchets !\nEn famille\, entre amis\, avec votre association ou seul\, joignez-vous à nous le samedi 14 octobre de 9h à 12h pour nettoyer notre station favorite. Dans la bonne humeur et sous le soleil que nous avons commandé\, réunissons-nous autour d’une problématique commune et importante pour la préservation de l’environnement.\n\nInscrivez-vous ici dès maintenant.\n\nSyndicat Mixte pour l’aménagement du Markstein Grand Ballon – http://www.lemarkstein.net/fr\nMountain Riders – Massif des Vosges – http://www.mountain-riders.org
URL:https://ecomanifestations-alsace.fr/event/ensemble-nettoyons-montagne/
LOCATION:Markstein
END:VEVENT
BEGIN:VEVENT
DTSTART;TZID=Europe/Paris:20171018T140000
DTEND;TZID=Europe/Paris:20171018T170000
DTSTAMP:20260425T123529
CREATED:20170918T112514Z
LAST-MODIFIED:20170918T112514Z
UID:8693-1508335200-1508346000@ecomanifestations-alsace.fr
SUMMARY:Visite ENVIE d'Illzach
DESCRIPTION:Mercredi  18 octobre à 14h00 à ILLZACH\, venez découvrir ENVIE ! C’est une occasion unique de découvrir leurs ateliers de réparation d’appareils électroménagers. \n \n 
URL:https://ecomanifestations-alsace.fr/event/visite-envie-dillzach/
END:VEVENT
BEGIN:VEVENT
DTSTART;TZID=Europe/Paris:20171027T200000
DTEND;TZID=Europe/Paris:20171027T213000
DTSTAMP:20260425T123529
CREATED:20171013T073125Z
LAST-MODIFIED:20171013T073125Z
UID:8755-1509134400-1509139800@ecomanifestations-alsace.fr
SUMMARY:Conférence zéro déchet - 27/10 à Illhaeusern
DESCRIPTION:Venez découvrir la vie « zéro déchet » lors d’une conférence de Céline Portal le vendredi 27/10 à 20h à la salle des fêtes d’Illhaeusern !
URL:https://ecomanifestations-alsace.fr/event/conference-zero-dechet-2710-a-illhaeusern/
END:VEVENT
END:VCALENDAR