BEGIN:VCALENDAR
VERSION:2.0
PRODID:-//Eco-Manifestations Alsace - ECPv6.15.11//NONSGML v1.0//EN
CALSCALE:GREGORIAN
METHOD:PUBLISH
X-ORIGINAL-URL:https://ecomanifestations-alsace.fr
X-WR-CALDESC:Évènements pour Eco-Manifestations Alsace
REFRESH-INTERVAL;VALUE=DURATION:PT1H
X-Robots-Tag:noindex
X-PUBLISHED-TTL:PT1H
BEGIN:VTIMEZONE
TZID:Europe/Paris
BEGIN:DAYLIGHT
TZOFFSETFROM:+0100
TZOFFSETTO:+0200
TZNAME:CEST
DTSTART:20210328T010000
END:DAYLIGHT
BEGIN:STANDARD
TZOFFSETFROM:+0200
TZOFFSETTO:+0100
TZNAME:CET
DTSTART:20211031T010000
END:STANDARD
BEGIN:DAYLIGHT
TZOFFSETFROM:+0100
TZOFFSETTO:+0200
TZNAME:CEST
DTSTART:20220327T010000
END:DAYLIGHT
BEGIN:STANDARD
TZOFFSETFROM:+0200
TZOFFSETTO:+0100
TZNAME:CET
DTSTART:20221030T010000
END:STANDARD
BEGIN:DAYLIGHT
TZOFFSETFROM:+0100
TZOFFSETTO:+0200
TZNAME:CEST
DTSTART:20230326T010000
END:DAYLIGHT
BEGIN:STANDARD
TZOFFSETFROM:+0200
TZOFFSETTO:+0100
TZNAME:CET
DTSTART:20231029T010000
END:STANDARD
END:VTIMEZONE
BEGIN:VEVENT
DTSTART;TZID=Europe/Paris:20221108T083000
DTEND;TZID=Europe/Paris:20221108T183000
DTSTAMP:20260425T125030
CREATED:20221107T080701Z
LAST-MODIFIED:20221107T080701Z
UID:11563-1667896200-1667932200@ecomanifestations-alsace.fr
SUMMARY:Forum DD - Strasbourg
DESCRIPTION:Pour cette nouvelle édition\, le Forum DD a obtenu le niveau 2 de notre label ! \nLe thème retenu cette année est « Cultivons les coopérations ! ». Une édition qui prône les rencontres\, les échanges et les synergies entre acteurs du territoire afin de s’enrichir mutuellement dans la mise en place de démarches RSE et d’économie circulaire. Comme le dit le célèbre proverbe « Tout seul on va vite\, ensemble\, on va plus loin ». Entreprises\, associations\, territoires\, cette journée vous est dédiée ! Découvrez le programme de la journée ! \nPour participer à ce rendez-vous annuel sur le développement durable\, pensez à vous inscrire : https://www.leforumdd.fr/infos-pratiques/inscription-en-ligne.html
URL:https://ecomanifestations-alsace.fr/event/forum-dd-strasbourg/
LOCATION:Palais de la Musique et des Congrès à Strasbourg
END:VEVENT
BEGIN:VEVENT
DTSTART;VALUE=DATE:20221110
DTEND;VALUE=DATE:20221111
DTSTAMP:20260425T125030
CREATED:20221107T081531Z
LAST-MODIFIED:20221107T081531Z
UID:11568-1668038400-1668124799@ecomanifestations-alsace.fr
SUMMARY:Nuit des Étudiants du Monde - Strasbourg
DESCRIPTION:Les évènements d’accueil à destination des étudiant.e.s internationaux sont de retour pour cette vingtième édition des Nuits des Etudiants du Monde. \nAfin de poursuivre l’engagement démarré en 2019\, l’événement a encore une fois bénéficié de l’accompagnement de notre association et obtient le niveau 2 de notre label ! \n 
URL:https://ecomanifestations-alsace.fr/event/nuit-des-etudiants-du-monde-strasbourg/
END:VEVENT
BEGIN:VEVENT
DTSTART;VALUE=DATE:20221111
DTEND;VALUE=DATE:20221114
DTSTAMP:20260425T125030
CREATED:20221107T082110Z
LAST-MODIFIED:20221107T083732Z
UID:11570-1668124800-1668383999@ecomanifestations-alsace.fr
SUMMARY:Schilick On Carnet - Schiltigheim
DESCRIPTION:Venez participer aux 3 jours de rencontres\, de dédicaces\, d’ateliers et d’animations autour de l’illustration et du livre jeunesse. Des auteurs et des illustrateurs vous attendent pour vous faire découvrir leurs œuvres. \nLe rendez-vous incontournable des petits et grands lecteurs\, de 2 à 102 ans ! \nCette année\, l’événement a voulu concrétiser sa démarche de développement durable et a obtenu le niveau 1 de notre label.
URL:https://ecomanifestations-alsace.fr/event/schilick-on-carnet-schiltigheim/
LOCATION:Briqueterie
END:VEVENT
BEGIN:VEVENT
DTSTART;VALUE=DATE:20221117
DTEND;VALUE=DATE:20221121
DTSTAMP:20260425T125030
CREATED:20221107T084512Z
LAST-MODIFIED:20221107T084512Z
UID:11575-1668643200-1668988799@ecomanifestations-alsace.fr
SUMMARY:Montier Festival Photo - Montier-En-Der
DESCRIPTION:Venez découvrir plus de 100 expositions originales de grande qualité de photo nature et rencontrer des photographes\, naturalistes\, associations et professionnels de la thématique. \nAvec 40h de conférences\, 1 espace « tables rondes »\, 100 forums sur la connaissance naturaliste et la technique photo\, le festival favorise les débats et les échanges\, pour tous les publics\, sur les grandes questions environnementales. \nL’Education à l’Environnement et au Développement Durable tient aussi une place importante à Montier\, avec plus de 4 000 scolaires présents durant les 4 jours de l’évènement. \nPour cette nouvelle édition\, l’événement a obtenu le niveau 2 de notre label ! \nPensez à prendre vos billets : https://www.helloasso.com/associations/afpan-l-or-vert/evenements/25eme-festival-photo-montier
URL:https://ecomanifestations-alsace.fr/event/montier-festival-photo-montier-en-der/
END:VEVENT
BEGIN:VEVENT
DTSTART;VALUE=DATE:20221119
DTEND;VALUE=DATE:20221120
DTSTAMP:20260425T125030
CREATED:20221107T085223Z
LAST-MODIFIED:20221107T085223Z
UID:11577-1668816000-1668902399@ecomanifestations-alsace.fr
SUMMARY:Bruche Mossig Agissons ensemble pour le climat - Molsheim
DESCRIPTION:Le 19 novembre prochain\, au Lycée Camille Schneider de Molsheim\, venez découvrir des expositions\, des retours d’expériences locales\, des animations\, des stands ludiques\, des remises de trophées\, des entreprises\, et beaucoup d’autres surprises sur la thématique du Climat !\n \nPour cette première édition\, l’événement a obtenu le niveau 3 de notre label.
URL:https://ecomanifestations-alsace.fr/event/bruche-mossig-agissons-ensemble-pour-le-climat-molsheim/
LOCATION:Lycée Camille Schneider\, 13 Avenue de la Gare\, 67120 Molsheim\, France
END:VEVENT
BEGIN:VEVENT
DTSTART;VALUE=DATE:20221124
DTEND;VALUE=DATE:20221228
DTSTAMP:20260425T125030
CREATED:20221107T090039Z
LAST-MODIFIED:20221107T090039Z
UID:11580-1669248000-1672185599@ecomanifestations-alsace.fr
SUMMARY:Marché de Noël - Mulhouse
DESCRIPTION:Comme chaque année\, retrouvez un marché de Noël alsacien traditionnel en plein cœur du centre historique de Mulhouse et découvrez sa particularité\, l’étoffe de Noël\, tissu créé chaque année pour décorer les façades et les rues piétonnes et donner un écrin festif au marché de Noël. \nÉvénement labellisé niveau 2.
URL:https://ecomanifestations-alsace.fr/event/marche-de-noel-mulhouse-2/
LOCATION:Mulhouse
END:VEVENT
BEGIN:VEVENT
DTSTART;VALUE=DATE:20221125
DTEND;VALUE=DATE:20221225
DTSTAMP:20260425T125031
CREATED:20221107T090757Z
LAST-MODIFIED:20221107T090757Z
UID:11582-1669334400-1671926399@ecomanifestations-alsace.fr
SUMMARY:Marché OFF - Strasbourg
DESCRIPTION:Comme chaque année\, venez à la rencontre d’une trentaine d’acteurs locaux de l’Économie Sociale et Solidaire (ESS)\, présents à la Place Grimmeissen à Strasbourg pour réinventer Noël.  \nLe Marché OFF est un lieu où l’on échange\, recycle\, chine et invente ce que Noël offre de différent\, de solidaire\, d’original et d’authentique en ayant recours à des modes de consommation qui font sens. \nNe manquez pas la programmation complète de l’événement : https://www.marcheoffstrasbourg.fr/# \n\nUne manifestation labellisée niveau 2 !
URL:https://ecomanifestations-alsace.fr/event/marche-off-strasbourg/
LOCATION:Place Grimmeissen
END:VEVENT
BEGIN:VEVENT
DTSTART;VALUE=DATE:20221125
DTEND;VALUE=DATE:20221219
DTSTAMP:20260425T125031
CREATED:20221205T153103Z
LAST-MODIFIED:20221205T153103Z
UID:11611-1669334400-1671407999@ecomanifestations-alsace.fr
SUMMARY:Marché de Noël - Wissembourg
DESCRIPTION:Pour cette nouvelle édition\, le marché de Noël de Wissembourg\, a obtenu le niveau 1 de notre label ! \nA compter du 25 novembre\, retrouvez les animations phares : le marché de Noël et café de Noël\, et les nombreuses animations tout au long de la période de l’Avent. Le défilé de HansTrapp et Christkindel\, suivi d’un spectacle pyrotechnique\, viendra clôturer ces festivités de Noël le dimanche 18 décembre. \nPour télécharger le programme complet de Noël à Wissembourg\, cliquez ici. \n 
URL:https://ecomanifestations-alsace.fr/event/marche-de-noel-wissembourg/
END:VEVENT
BEGIN:VEVENT
DTSTART;VALUE=DATE:20221130
DTEND;VALUE=DATE:20221202
DTSTAMP:20260425T125031
CREATED:20221107T091319Z
LAST-MODIFIED:20221114T084747Z
UID:11585-1669766400-1669939199@ecomanifestations-alsace.fr
SUMMARY:Colloque des Sorcières - Mulhouse
DESCRIPTION:Du 30 novembre au 1er décembre 2022\, l’Institut de recherche en Langues et Littératures Européennes (ILLE) de l’Université de Haute-Alsace propose d’assister au colloque « Sorcières : des femmes libres à travers l’histoire de l’humanité« . \nDurant ces deux jours\, le colloque a pour objectif d’interroger la société actuelle et ses dogmes par le prisme de la tragédie du mythe de la sorcière depuis l’Antiquité jusqu’à la cyber époque en balisant aux quatre coins du monde sous l’angle de différentes approches : littéraire\, linguistique\, artistique\, historique\, médiatique\, sociétale. \nPour consulter le programme : https://www.ille.uha.fr/evenements/sorcieres-des-femmes-libres-a-travers-lhistoire-de-lhumanite/ \nÉvénement labellisé niveau 2 de notre charte d’engagement !
URL:https://ecomanifestations-alsace.fr/event/colloque-des-sorcieres-mulhouse/
LOCATION:Amphithéâtre Weiss – 6 rue des Frères Lumière à Mulhouse
END:VEVENT
END:VCALENDAR