BEGIN:VCALENDAR
VERSION:2.0
PRODID:-//Eco-Manifestations Alsace - ECPv6.15.11//NONSGML v1.0//EN
CALSCALE:GREGORIAN
METHOD:PUBLISH
X-WR-CALNAME:Eco-Manifestations Alsace
X-ORIGINAL-URL:https://ecomanifestations-alsace.fr
X-WR-CALDESC:Évènements pour Eco-Manifestations Alsace
REFRESH-INTERVAL;VALUE=DURATION:PT1H
X-Robots-Tag:noindex
X-PUBLISHED-TTL:PT1H
BEGIN:VTIMEZONE
TZID:Europe/Paris
BEGIN:DAYLIGHT
TZOFFSETFROM:+0100
TZOFFSETTO:+0200
TZNAME:CEST
DTSTART:20220327T010000
END:DAYLIGHT
BEGIN:STANDARD
TZOFFSETFROM:+0200
TZOFFSETTO:+0100
TZNAME:CET
DTSTART:20221030T010000
END:STANDARD
BEGIN:DAYLIGHT
TZOFFSETFROM:+0100
TZOFFSETTO:+0200
TZNAME:CEST
DTSTART:20230326T010000
END:DAYLIGHT
BEGIN:STANDARD
TZOFFSETFROM:+0200
TZOFFSETTO:+0100
TZNAME:CET
DTSTART:20231029T010000
END:STANDARD
BEGIN:DAYLIGHT
TZOFFSETFROM:+0100
TZOFFSETTO:+0200
TZNAME:CEST
DTSTART:20240331T010000
END:DAYLIGHT
BEGIN:STANDARD
TZOFFSETFROM:+0200
TZOFFSETTO:+0100
TZNAME:CET
DTSTART:20241027T010000
END:STANDARD
END:VTIMEZONE
BEGIN:VEVENT
DTSTART;VALUE=DATE:20230503
DTEND;VALUE=DATE:20230522
DTSTAMP:20260425T032144
CREATED:20230421T085909Z
LAST-MODIFIED:20230421T085909Z
UID:11820-1683072000-1684713599@ecomanifestations-alsace.fr
SUMMARY:Passages Transfestival - Metz
DESCRIPTION:Pour sa nouvelle édition\, Passages Transfestival s’est labellisé niveau 2 de notre charte d’engagement ! \nRetrouvez\, une nouvelle édition festive qui insufflera un air bouillonnant aux 4 coins de la ville de Metz et de sa métropole. Ce festival qui a lieu du 3 au 21 mai 2023\, vous transportera en Italie à travers ses mythes\, ses migrations\, et même au-delà des frontières latines\, via plus d’une trentaine de spectacles transdisciplinaires\, rencontres\, concerts\, projections\, ateliers… \nN’attendez plus pour prendre vos billets ! https://passages-transfestival.mapado.com/ \n 
URL:https://ecomanifestations-alsace.fr/event/passages-transfestival-metz/
END:VEVENT
BEGIN:VEVENT
DTSTART;VALUE=DATE:20230505
DTEND;VALUE=DATE:20230506
DTSTAMP:20260425T032144
CREATED:20230502T080844Z
LAST-MODIFIED:20230502T080844Z
UID:11836-1683244800-1683331199@ecomanifestations-alsace.fr
SUMMARY:Pose de 1ère pierre Bouygues Immobilier - Metz
DESCRIPTION:Pour la pose de la 1ère pierre de leur nouvelle construction à Metz\, l’entreprise Bouygues Immobilier\, labellisa leur événement niveau 1 de notre charte d’engagement. \n(Événement privé).
URL:https://ecomanifestations-alsace.fr/event/pose-de-1ere-pierre-bouygues-immobilier-metz/
END:VEVENT
BEGIN:VEVENT
DTSTART;VALUE=DATE:20230512
DTEND;VALUE=DATE:20230515
DTSTAMP:20260425T032144
CREATED:20230421T090946Z
LAST-MODIFIED:20230421T091049Z
UID:11823-1683849600-1684108799@ecomanifestations-alsace.fr
SUMMARY:Festival On The Mississippi - Strasbourg et Ostwald
DESCRIPTION:Pour sa première édition\, le Festival On The Mississippi s’est lancé le défi de se labelliser éco-manifestation. Défi relevé haut la main avec l’obtention du niveau 2 de notre label ! Félicitations aux organisateurs. \nUn très bel événement\, de boogie\, ragtime\, stride et blues à ne pas manquer au Plan d’Eau à Ostwald le vendredi 12 et samedi 13 mai\, ainsi qu’au Château de Pourtalès à Strasbourg le 14 mai 2023. \nToute la programmation sur : https://otmfestival.fr/category/programmation
URL:https://ecomanifestations-alsace.fr/event/festival-on-the-mississppi-strasbourg-et-ostwald/
END:VEVENT
BEGIN:VEVENT
DTSTART;VALUE=DATE:20230512
DTEND;VALUE=DATE:20230515
DTSTAMP:20260425T032144
CREATED:20230421T091532Z
LAST-MODIFIED:20230421T091532Z
UID:11827-1683849600-1684108799@ecomanifestations-alsace.fr
SUMMARY:Forum du Livre - Saint Louis
DESCRIPTION:Retrouvez cette année encore et pour sa 40 ème édition\, le forum du Livre de Saint Louis. \nÉvénement littéraire à ne pas manquer ! \nRencontrer de nombreux auteurs et participer aux différentes animations (pour les petits comme pour les grands !). \nPour plus d’informations sur le programme : https://forumlivre.fr/animations/ \n 
URL:https://ecomanifestations-alsace.fr/event/forum-du-livre-saint-louis-2/
END:VEVENT
BEGIN:VEVENT
DTSTART;VALUE=DATE:20230512
DTEND;VALUE=DATE:20230513
DTSTAMP:20260425T032144
CREATED:20230502T075435Z
LAST-MODIFIED:20230502T075435Z
UID:11829-1683849600-1683935999@ecomanifestations-alsace.fr
SUMMARY:Vernissage des Ateliers Ouverts - Strasbourg
DESCRIPTION:Après une petite pause\, les Ateliers Ouverts reviennent pour un nouvel événement les 13-14 & 20-21 mai 2023 de 14h à 19h. \nLe vernissage (et l’ouverture de l’événement) a été labellisé éco-manifestation cette année. \nVenez découvrir et rencontrer 40 artistes au Bastion 14\, ancienne fortification de la Ville jusqu’à 22h\, et la cour des remparts accueille jusqu’à une heure du matin un mini-festival composé d’une série de concerts gratuits et de performances. \nRestauration sur place.
URL:https://ecomanifestations-alsace.fr/event/vernissage-des-ateliers-ouverts-strasbourg/
END:VEVENT
BEGIN:VEVENT
DTSTART;VALUE=DATE:20230512
DTEND;VALUE=DATE:20230524
DTSTAMP:20260425T032144
CREATED:20230502T082004Z
LAST-MODIFIED:20230502T082004Z
UID:11840-1683849600-1684886399@ecomanifestations-alsace.fr
SUMMARY:Festival des mini-entreprises - Grand Est
DESCRIPTION:Pour cette nouvelle édition\, le festival des mini-entreprises a été labellisé écomanifestation. \nCette année ce sont près de 3 000 collégiens\, lycéens\, post-bac (étudiants) et jeunes en structure d’accompagnement à l’emploi du Grand Est qui se sont lancé le défi de créer une entreprise grandeur réelle de l’idéalisation à la commercialisation d’un bien ou d’un service. \nLe Festival des Mini-Entreprises® met en lumière ces différents projets. \nToute la programmation via ce lien : https://www.festivaldesminientreprises.fr/grandest/programmation/ \n 
URL:https://ecomanifestations-alsace.fr/event/festival-des-mini-entreprises-grand-est/
END:VEVENT
BEGIN:VEVENT
DTSTART;VALUE=DATE:20230512
DTEND;VALUE=DATE:20230531
DTSTAMP:20260425T032144
CREATED:20230502T082907Z
LAST-MODIFIED:20230502T082907Z
UID:11842-1683849600-1685491199@ecomanifestations-alsace.fr
SUMMARY:Festival Mon Mouton est un Lion - Saverne
DESCRIPTION:Pour sa 23ème édition\, le Festival Mon Mouton est un Lion a intégré le projet collectif organisé en partenariat avec le Smictom de Saverne et EMA. \nDans le cadre de ce projet\, l’événement a été accompagné et labellisé niveau 2 de notre charte d’engagement. Accompagnement pris en charge par le Smictom de Saverne. \nRetrouvez ce festival jeune public à Saverne\, du 12 au 30 mai 2023. \nToute la programmation via ce lien : https://mouton-lion.org/programmation
URL:https://ecomanifestations-alsace.fr/event/festival-mon-mouton-est-un-lion-saverne/
END:VEVENT
BEGIN:VEVENT
DTSTART;VALUE=DATE:20230513
DTEND;VALUE=DATE:20230515
DTSTAMP:20260425T032144
CREATED:20230502T080254Z
LAST-MODIFIED:20230502T080254Z
UID:11834-1683936000-1684108799@ecomanifestations-alsace.fr
SUMMARY:Convention Mandalas - Colmar
DESCRIPTION:L’entreprise Mandalas\, organise annuellement une convention à destination de tous leurs clients. \nCette année\, cet événement a été labellisé niveau 1 de notre charte d’engagement. \n(Événement privé). \n 
URL:https://ecomanifestations-alsace.fr/event/convention-mandalas-colmar/
END:VEVENT
BEGIN:VEVENT
DTSTART;VALUE=DATE:20230513
DTEND;VALUE=DATE:20230522
DTSTAMP:20260425T032144
CREATED:20230502T081501Z
LAST-MODIFIED:20230502T082135Z
UID:11838-1683936000-1684713599@ecomanifestations-alsace.fr
SUMMARY:Festival Humour des Notes - Haguenau
DESCRIPTION:Pour cette nouvelle édition\, le Festival Humour des Notes a obtenu le niveau 2 de notre charte d’engagement ! \nChaque année\, durant la semaine de l’Ascension et le week-end qui précède\, L’Humour des Notes invite le public à se laisser surprendre et émouvoir dans les rues de Haguenau et au Théâtre\, avec des propositions mêlant humour\, musique et originalité. \nL’événement – porté par l’équipe du Relais culturel Théâtre de Haguenau – rassemble habitants\, associations\, services culturels et plus d’une centaine d’artistes pour un temps festif\, convivial et créatif en plein cœur du centre-ville. \nDu Village des Enfants dédié aux familles\, aux spectacles tout public et en tout genre qui envahissent le centre-ville et les communes de la Communauté d’Agglomération de Haguenau\, le festival s’adresse à tous ! \nRetrouvez tout le programme de cette 31ème édition via ce lien : https://humour-des-notes.com/sites/haguenau/files/2023-04/Programme%20HDN%202023_compressed.pdf
URL:https://ecomanifestations-alsace.fr/event/festival-humour-des-notes-saverne/
END:VEVENT
BEGIN:VEVENT
DTSTART;VALUE=DATE:20230518
DTEND;VALUE=DATE:20230522
DTSTAMP:20260425T032144
CREATED:20230516T091609Z
LAST-MODIFIED:20230516T091609Z
UID:11853-1684368000-1684713599@ecomanifestations-alsace.fr
SUMMARY:Pelpass Festival - Strasbourg
DESCRIPTION:Cette année encore\, le Pelpass Festival revient au Jardin des Deux Rives à Strasbourg du 18 au 21 mai 2023 et pour cette nouvelle édition\, le Festival a obtenu le niveau 2 de notre label ! \nN’attendez plus pour prendre vos billets ! https://shotgun.live/fr/festivals/pelpass-festival-2023 \nToute la programmation sur : https://pelpass.net/pelpass-festival-2023/
URL:https://ecomanifestations-alsace.fr/event/pelpass-festival-strasbourg/
END:VEVENT
END:VCALENDAR