BEGIN:VCALENDAR
VERSION:2.0
PRODID:-//Eco-Manifestations Alsace - ECPv6.15.11//NONSGML v1.0//EN
CALSCALE:GREGORIAN
METHOD:PUBLISH
X-WR-CALNAME:Eco-Manifestations Alsace
X-ORIGINAL-URL:https://ecomanifestations-alsace.fr
X-WR-CALDESC:Évènements pour Eco-Manifestations Alsace
REFRESH-INTERVAL;VALUE=DURATION:PT1H
X-Robots-Tag:noindex
X-PUBLISHED-TTL:PT1H
BEGIN:VTIMEZONE
TZID:Europe/Paris
BEGIN:DAYLIGHT
TZOFFSETFROM:+0100
TZOFFSETTO:+0200
TZNAME:CEST
DTSTART:20220327T010000
END:DAYLIGHT
BEGIN:STANDARD
TZOFFSETFROM:+0200
TZOFFSETTO:+0100
TZNAME:CET
DTSTART:20221030T010000
END:STANDARD
BEGIN:DAYLIGHT
TZOFFSETFROM:+0100
TZOFFSETTO:+0200
TZNAME:CEST
DTSTART:20230326T010000
END:DAYLIGHT
BEGIN:STANDARD
TZOFFSETFROM:+0200
TZOFFSETTO:+0100
TZNAME:CET
DTSTART:20231029T010000
END:STANDARD
BEGIN:DAYLIGHT
TZOFFSETFROM:+0100
TZOFFSETTO:+0200
TZNAME:CEST
DTSTART:20240331T010000
END:DAYLIGHT
BEGIN:STANDARD
TZOFFSETFROM:+0200
TZOFFSETTO:+0100
TZNAME:CET
DTSTART:20241027T010000
END:STANDARD
END:VTIMEZONE
BEGIN:VEVENT
DTSTART;VALUE=DATE:20230701
DTEND;VALUE=DATE:20230703
DTSTAMP:20260424T160405
CREATED:20230628T120552Z
LAST-MODIFIED:20230628T120552Z
UID:11900-1688169600-1688342399@ecomanifestations-alsace.fr
SUMMARY:Magic Basket - Sainte-Croix-aux-Mines
DESCRIPTION:Le Magic Basket est un tournoi de basket organisé depuis plus de 20 ans par le Cercle Saint Nicolas à Ste Croix aux Mines. Un tournoi où se croisent les valeurs du sport et le plaisir du jeu\, mélangeant des amateurs comme les plus férus de la balle orange. \nCette année ce seront 16 équipes qui s’affronteront. \nLe tournoi débutera le samedi 01 juillet et se finira le dimanche 02 juillet. \nSur place vous  trouverez : \n\nune buvette\nrestauration possible en extérieur le dimanche midi avec la présence du Food Truck « La Flambée d’Alex » qui vous proposera des Tartes Flambées.\n\nÉvénement labellisé niveau 1.
URL:https://ecomanifestations-alsace.fr/event/magic-basket-sainte-croix-aux-mines/
END:VEVENT
BEGIN:VEVENT
DTSTART;TZID=Europe/Paris:20230701T153000
DTEND;TZID=Europe/Paris:20230701T230000
DTSTAMP:20260424T160405
CREATED:20230628T115033Z
LAST-MODIFIED:20230628T115033Z
UID:11894-1688225400-1688252400@ecomanifestations-alsace.fr
SUMMARY:Fête du quartier Gare - Strasbourg
DESCRIPTION:Venez participer à la fête de quartier Gare\, organisé par le centre socio-culturel Fossé des Treize\, ainsi qu’un collectif d’associations (Laiterie\, Coopalim\, les petites cantines\, etc.) \nRetrouvez des animations\, des jeux\, des stands et un concert en fin de journée ! \nRestauration et buvette. \nÉvénement labellisé niveau 1.
URL:https://ecomanifestations-alsace.fr/event/fete-du-quartier-gare-strasbourg/
END:VEVENT
BEGIN:VEVENT
DTSTART;VALUE=DATE:20230707
DTEND;VALUE=DATE:20230710
DTSTAMP:20260424T160405
CREATED:20230628T121150Z
LAST-MODIFIED:20230628T121150Z
UID:11902-1688688000-1688947199@ecomanifestations-alsace.fr
SUMMARY:Pop-Up / Scène de rue - Mulhouse
DESCRIPTION:En 2023\, Scènes de rue s’offre une cure de jouvence et devient Pop Up ! Festival des arts de la rue pour le jeune public et les familles. \nRendez-vous du 7 au 9 juillet dans plusieurs endroits de Mulhouse : plusieurs parc\, écoles ou églises accueilleront des spectacles ! C’est donc un joyeux week-end qui vous attendra autour d’un peu plus d’une vingtaine de propositions artistiques. \nEvénement labellisé niveau 3 ! Félicitations aux organisateurs.
URL:https://ecomanifestations-alsace.fr/event/pop-up-scene-de-rue-mulhouse/
END:VEVENT
BEGIN:VEVENT
DTSTART;VALUE=DATE:20230707
DTEND;VALUE=DATE:20230717
DTSTAMP:20260424T160405
CREATED:20230628T121717Z
LAST-MODIFIED:20230628T121717Z
UID:11904-1688688000-1689551999@ecomanifestations-alsace.fr
SUMMARY:Hop Hop Hop - Metz
DESCRIPTION:Le Festival International du spectacle à ciel ouvert\, Hop Hop Hop\, est de retour le 1er puis du 7 au 16 juillet 2023\, pour la 14ème édition.\n\nRdv dans les communes de l’Eurométropole de Metz\, avec six nouveaux hôtes cette année.\n\nFestival d’art vivant en plein air et entièrement gratuit\, retrouvez cette année 39 compagnies\, 170 artistes\, 42 spectacles et 89 représentations.\n\nEvénement labellisé niveau 1.
URL:https://ecomanifestations-alsace.fr/event/hop-hop-hop-metz/
END:VEVENT
BEGIN:VEVENT
DTSTART;TZID=Europe/Paris:20230709T140000
DTEND;TZID=Europe/Paris:20230709T223000
DTSTAMP:20260424T160405
CREATED:20230628T122922Z
LAST-MODIFIED:20230628T122922Z
UID:11906-1688911200-1688941800@ecomanifestations-alsace.fr
SUMMARY:Fête de la Nature - Lohr
DESCRIPTION:Le Dimanche 9 juillet\, de 14h à 22h\, l’Association Les Piverts organise sa « Fête de la Nature » à Lohr. \nAu programme : des animations\, un spectacle pour les enfants\, un concert\, et des stands de producteurs et artisans locaux. \nDiverses activités seront proposées aux visiteurs tout au long de l’après-midi et de la soirée. \nVenez participer à cet événement local\, convivial et responsable ! \nEvénement labellisé niveau 2.
URL:https://ecomanifestations-alsace.fr/event/fete-de-la-nature-lohr/
END:VEVENT
BEGIN:VEVENT
DTSTART;VALUE=DATE:20230720
DTEND;VALUE=DATE:20230818
DTSTAMP:20260424T160405
CREATED:20230628T123510Z
LAST-MODIFIED:20230628T123510Z
UID:11908-1689811200-1692316799@ecomanifestations-alsace.fr
SUMMARY:Les jeudis du parc - Mulhouse
DESCRIPTION:Chaque été\, le parc Salvator vous invite tous les jeudis à découvrir de nouvelles prestations musicales\, artistiques\, etc. \nPour cette nouvelle année\, les Jeudis du Parc vous proposent une belle programmation : \n20 juillet : Spectacle de clown burlesque par la Cie du Petit Monsieur puis projection « Antoinette dans les Cévennes » de Caroline Vignal\n27 juillet : Spectacle Refaire le monde (Saison 2) par la Cie Kalisto puis projection « Damien veut changer le monde » de Xavier de Choudens\n3 août : Théâtre burlesque par la Cie Les Güms puis projection Le sommet des Dieux de Patrick Imbert\n10 août: Concert en partenariat avec Météo festival (Håla Duett) puis projection « Les Indes Galantes » de Philippe Béziat\n17 août : Cirque et théâtre de rue avec la Cie Pol & Freddy puis projection « Le sens de la fête » d’Eric Toledano et Olivier Nakache \nEvénement labellisé niveau 2. \n  \n 
URL:https://ecomanifestations-alsace.fr/event/les-jeudis-du-parc-mulhouse-2/
END:VEVENT
BEGIN:VEVENT
DTSTART;VALUE=DATE:20230721
DTEND;VALUE=DATE:20230723
DTSTAMP:20260424T160405
CREATED:20230628T123821Z
LAST-MODIFIED:20230628T123821Z
UID:11910-1689897600-1690070399@ecomanifestations-alsace.fr
SUMMARY:Fan Zone du Tour de France
DESCRIPTION:Cette année encore\, la Fan Zone du Tour de France (Salins-les-Bains et Munster) a été labellisé par Eco-Manifestations Alsace.
URL:https://ecomanifestations-alsace.fr/event/fan-zone-du-tour-de-france/
END:VEVENT
BEGIN:VEVENT
DTSTART;VALUE=DATE:20230722
DTEND;VALUE=DATE:20230724
DTSTAMP:20260424T160405
CREATED:20230628T125645Z
LAST-MODIFIED:20230629T092153Z
UID:11913-1689984000-1690156799@ecomanifestations-alsace.fr
SUMMARY:Marche populaire - Carspach
DESCRIPTION:Organisée par le Basket club Saint-Georges de Carspach\, la marche populaire revient cette année le 22 et 23 juillet. \nPlusieurs distances vous sont proposées : 5 km\, 10 km et 20 km. \nEvénement labellisé niveau 2. \n 
URL:https://ecomanifestations-alsace.fr/event/marche-populaire-carspach-2/
END:VEVENT
BEGIN:VEVENT
DTSTART;TZID=Europe/Paris:20230728T080000
DTEND;TZID=Europe/Paris:20230730T170000
DTSTAMP:20260424T160405
CREATED:20230628T131623Z
LAST-MODIFIED:20230725T141028Z
UID:11915-1690531200-1690736400@ecomanifestations-alsace.fr
SUMMARY:Clair de Nuit - Andlau
DESCRIPTION:Pour cette 22ème édition\, le Festival au Clair de Nuit vous donne rendez-vous à Andlau\, les 28\, 29 et 30 juillet 2023 ! \nPlusieurs concerts vous seront proposés de 17h30 à 23h30. \nRestauration et buvette sur place. \nEvénement labellisé niveau 1.
URL:https://ecomanifestations-alsace.fr/event/clair-de-nuit/
END:VEVENT
BEGIN:VEVENT
DTSTART;VALUE=DATE:20230729
DTEND;VALUE=DATE:20230731
DTSTAMP:20260424T160405
CREATED:20230628T132801Z
LAST-MODIFIED:20230628T132801Z
UID:11917-1690588800-1690761599@ecomanifestations-alsace.fr
SUMMARY:Route du Champagne en Fête - Bar-sur-Seine
DESCRIPTION:« La Route du Champagne en Fête » est un évènement estival grand public. \nVenez découvrir et accéder aux différentes caves du territoire afin de profiter d’une dégustation gratuite dans chaque domaine participant et découvrez ainsi les richesses et les savoir-faire du terroir. \nEvénement labellisé (niveau en cours de validation).
URL:https://ecomanifestations-alsace.fr/event/route-du-champagne-en-fete-bar-sur-seine/
END:VEVENT
END:VCALENDAR