BEGIN:VCALENDAR
VERSION:2.0
PRODID:-//Eco-Manifestations Alsace - ECPv6.15.11//NONSGML v1.0//EN
CALSCALE:GREGORIAN
METHOD:PUBLISH
X-WR-CALNAME:Eco-Manifestations Alsace
X-ORIGINAL-URL:https://ecomanifestations-alsace.fr
X-WR-CALDESC:Évènements pour Eco-Manifestations Alsace
REFRESH-INTERVAL;VALUE=DURATION:PT1H
X-Robots-Tag:noindex
X-PUBLISHED-TTL:PT1H
BEGIN:VTIMEZONE
TZID:Europe/Paris
BEGIN:DAYLIGHT
TZOFFSETFROM:+0100
TZOFFSETTO:+0200
TZNAME:CEST
DTSTART:20220327T010000
END:DAYLIGHT
BEGIN:STANDARD
TZOFFSETFROM:+0200
TZOFFSETTO:+0100
TZNAME:CET
DTSTART:20221030T010000
END:STANDARD
BEGIN:DAYLIGHT
TZOFFSETFROM:+0100
TZOFFSETTO:+0200
TZNAME:CEST
DTSTART:20230326T010000
END:DAYLIGHT
BEGIN:STANDARD
TZOFFSETFROM:+0200
TZOFFSETTO:+0100
TZNAME:CET
DTSTART:20231029T010000
END:STANDARD
BEGIN:DAYLIGHT
TZOFFSETFROM:+0100
TZOFFSETTO:+0200
TZNAME:CEST
DTSTART:20240331T010000
END:DAYLIGHT
BEGIN:STANDARD
TZOFFSETFROM:+0200
TZOFFSETTO:+0100
TZNAME:CET
DTSTART:20241027T010000
END:STANDARD
END:VTIMEZONE
BEGIN:VEVENT
DTSTART;VALUE=DATE:20230930
DTEND;VALUE=DATE:20231002
DTSTAMP:20260424T103519
CREATED:20230901T125119Z
LAST-MODIFIED:20230901T125119Z
UID:11979-1696032000-1696204799@ecomanifestations-alsace.fr
SUMMARY:Street Bouche Festival - Strasbourg
DESCRIPTION:Street Bouche festival\, le 30 et 1er octobre\, rendez-vous sur le parvis de la fac de droit au campus universitaire de Strasbourg.\nVenez découvrir des plats faits maison avec des ingrédients locaux et de saison en version street food\, des boissons locales en tous genres\, et tout ça dans la bonne humeur !\nToutes les infos sur : https://www.facebook.com/events/829128891973810/
URL:https://ecomanifestations-alsace.fr/event/street-bouche-festival-strasbourg/
END:VEVENT
BEGIN:VEVENT
DTSTART;VALUE=DATE:20231007
DTEND;VALUE=DATE:20231010
DTSTAMP:20260424T103519
CREATED:20231002T083438Z
LAST-MODIFIED:20231003T092111Z
UID:11993-1696636800-1696895999@ecomanifestations-alsace.fr
SUMMARY:Exposition de Fruits et Champignons - Bouxwiller
DESCRIPTION:Pour cette nouvelle édition\, l’association des producteurs de fruits de Bouxwiller et environs\, vous invite à son incontournable exposition de fruits et champignons\, intitulée “Le grand voyage de la pomme”. Événement labellisé niveau 2 ! \nDe nombreux artisans livreront leurs secrets sur la transformation et la conservation des fruits et champignons. D’autres vous feront découvrir leurs créations. Les apiculteurs présenteront la méthode d’élevage des abeilles\, ainsi que le fonctionnement d’une ruche\, et se feront un plaisir de répondre à vos nombreuses questions. \nDes commandes d’arbres fruitiers sont également possible\, en vue d’une plantation à la Sainte Catherine.
URL:https://ecomanifestations-alsace.fr/event/exposition-de-fruits-et-champignons-bouxwiller/
END:VEVENT
BEGIN:VEVENT
DTSTART;VALUE=DATE:20231012
DTEND;VALUE=DATE:20231013
DTSTAMP:20260424T103519
CREATED:20231003T092901Z
LAST-MODIFIED:20231003T092901Z
UID:12001-1697068800-1697155199@ecomanifestations-alsace.fr
SUMMARY:Université d'été des commissaires aux comptes - Colmar (événement professionnel)
DESCRIPTION:L’Université d’été des commissaires aux comptes\, organisé par la Compagnie Régionale des Commissaires aux Comptes de Colmar\, a été accompagné par EMA pour la première fois cette année. \nCet événement professionnel a été labellisé niveau 1. \nFélicitations aux organisateurs !
URL:https://ecomanifestations-alsace.fr/event/universite-dete-des-commissaires-aux-comptes-colmar-evenement-professionnel/
END:VEVENT
BEGIN:VEVENT
DTSTART;VALUE=DATE:20231013
DTEND;VALUE=DATE:20231014
DTSTAMP:20260424T103519
CREATED:20231003T103107Z
LAST-MODIFIED:20231003T103107Z
UID:12003-1697155200-1697241599@ecomanifestations-alsace.fr
SUMMARY:La Molshémienne - Molsheim
DESCRIPTION:Participez à la 5ème édition de la Molshémienne !\n\nAu programme : Marche & Course rose de 5 km à travers la Ville.\n\n13 € dont 5 € reversés à la Ligue contre le cancer.\n\nInfos & inscriptions : https://lamolshemienne.fr
URL:https://ecomanifestations-alsace.fr/event/la-molshemienne-molsheim-2/
END:VEVENT
BEGIN:VEVENT
DTSTART;VALUE=DATE:20231014
DTEND;VALUE=DATE:20231015
DTSTAMP:20260424T103519
CREATED:20231003T092502Z
LAST-MODIFIED:20231003T092502Z
UID:11999-1697241600-1697327999@ecomanifestations-alsace.fr
SUMMARY:La Nature et Moi - Romagne-sous-les-Côtes (Meuse)
DESCRIPTION:Découvrez de nombreux stands d’information\, des jeux\, des conférences\, des marches guidée et libre autour du thème de l’environnement ! 🐞🌿 \nPour cette première édition\, l’événement a été labellisé niveau 1 ! \nOrganisé par l’Office de Tourisme des Portes de Verdun\, plus d’informations sur : https://www.portesdeverdun.com/
URL:https://ecomanifestations-alsace.fr/event/la-nature-et-moi-romagne-sous-les-cotes-meuse/
END:VEVENT
BEGIN:VEVENT
DTSTART;VALUE=DATE:20231022
DTEND;VALUE=DATE:20231023
DTSTAMP:20260424T103519
CREATED:20231002T083709Z
LAST-MODIFIED:20231002T083709Z
UID:11995-1697932800-1698019199@ecomanifestations-alsace.fr
SUMMARY:Belfortrail - Belfort
DESCRIPTION:Rendez-vous le dimanche 22 octobre 2023 à la 12ème édition du BelforTrail ! \nRéservez dès maintenant cette date pour réaliser votre challenge automnal sur les sentiers vosgiens\, à l’assaut du Ballon d’Alsace. \n3 formats de courses\, pour satisfaire les appétits de chacune et chacun !
URL:https://ecomanifestations-alsace.fr/event/belfortrail-belfort/
END:VEVENT
END:VCALENDAR