BEGIN:VCALENDAR
VERSION:2.0
PRODID:-//Eco-Manifestations Alsace - ECPv6.15.11//NONSGML v1.0//EN
CALSCALE:GREGORIAN
METHOD:PUBLISH
X-ORIGINAL-URL:https://ecomanifestations-alsace.fr
X-WR-CALDESC:Évènements pour Eco-Manifestations Alsace
REFRESH-INTERVAL;VALUE=DURATION:PT1H
X-Robots-Tag:noindex
X-PUBLISHED-TTL:PT1H
BEGIN:VTIMEZONE
TZID:Europe/Paris
BEGIN:DAYLIGHT
TZOFFSETFROM:+0100
TZOFFSETTO:+0200
TZNAME:CEST
DTSTART:20230326T010000
END:DAYLIGHT
BEGIN:STANDARD
TZOFFSETFROM:+0200
TZOFFSETTO:+0100
TZNAME:CET
DTSTART:20231029T010000
END:STANDARD
BEGIN:DAYLIGHT
TZOFFSETFROM:+0100
TZOFFSETTO:+0200
TZNAME:CEST
DTSTART:20240331T010000
END:DAYLIGHT
BEGIN:STANDARD
TZOFFSETFROM:+0200
TZOFFSETTO:+0100
TZNAME:CET
DTSTART:20241027T010000
END:STANDARD
BEGIN:DAYLIGHT
TZOFFSETFROM:+0100
TZOFFSETTO:+0200
TZNAME:CEST
DTSTART:20250330T010000
END:DAYLIGHT
BEGIN:STANDARD
TZOFFSETFROM:+0200
TZOFFSETTO:+0100
TZNAME:CET
DTSTART:20251026T010000
END:STANDARD
END:VTIMEZONE
BEGIN:VEVENT
DTSTART;VALUE=DATE:20240201
DTEND;VALUE=DATE:20240203
DTSTAMP:20260423T214250
CREATED:20240115T121744Z
LAST-MODIFIED:20240115T121744Z
UID:12083-1706745600-1706918399@ecomanifestations-alsace.fr
SUMMARY:Journées Universitaires - Strasbourg
DESCRIPTION:Comme chaque année\, retrouvez le salon dédié aux formations post-bac : les JU au parc des expositions à Strasbourg. \nRencontrez plus de 150 exposants liés à l’enseignement supérieur et découvrez diverses formations: licences\, bachelors universitaires de technologie (BUT)\, brevet de technicien supérieur (BTS)\, écoles d’ingénieur\, classes préparatoires… \nVous trouverez également de nombreuses pistes pour préparer votre future vie d’étudiant (logements\, bourses\, restauration\, activités sportives ou culturelles…) ou les possibilités d’études à l’étranger. \nEvénement labellisé niveau 1 de notre charte d’engagement des éco-manifestations !
URL:https://ecomanifestations-alsace.fr/event/journees-universitaires-strasbourg/
END:VEVENT
END:VCALENDAR