BEGIN:VCALENDAR
VERSION:2.0
PRODID:-//Eco-Manifestations Alsace - ECPv6.15.11//NONSGML v1.0//EN
CALSCALE:GREGORIAN
METHOD:PUBLISH
X-ORIGINAL-URL:https://ecomanifestations-alsace.fr
X-WR-CALDESC:Évènements pour Eco-Manifestations Alsace
REFRESH-INTERVAL;VALUE=DURATION:PT1H
X-Robots-Tag:noindex
X-PUBLISHED-TTL:PT1H
BEGIN:VTIMEZONE
TZID:Europe/Paris
BEGIN:DAYLIGHT
TZOFFSETFROM:+0100
TZOFFSETTO:+0200
TZNAME:CEST
DTSTART:20230326T010000
END:DAYLIGHT
BEGIN:STANDARD
TZOFFSETFROM:+0200
TZOFFSETTO:+0100
TZNAME:CET
DTSTART:20231029T010000
END:STANDARD
BEGIN:DAYLIGHT
TZOFFSETFROM:+0100
TZOFFSETTO:+0200
TZNAME:CEST
DTSTART:20240331T010000
END:DAYLIGHT
BEGIN:STANDARD
TZOFFSETFROM:+0200
TZOFFSETTO:+0100
TZNAME:CET
DTSTART:20241027T010000
END:STANDARD
BEGIN:DAYLIGHT
TZOFFSETFROM:+0100
TZOFFSETTO:+0200
TZNAME:CEST
DTSTART:20250330T010000
END:DAYLIGHT
BEGIN:STANDARD
TZOFFSETFROM:+0200
TZOFFSETTO:+0100
TZNAME:CET
DTSTART:20251026T010000
END:STANDARD
END:VTIMEZONE
BEGIN:VEVENT
DTSTART;VALUE=DATE:20240406
DTEND;VALUE=DATE:20240408
DTSTAMP:20260423T182142
CREATED:20240221T143838Z
LAST-MODIFIED:20240221T143838Z
UID:12116-1712361600-1712534399@ecomanifestations-alsace.fr
SUMMARY:Week-end territorial Scouts et Guides de France
DESCRIPTION:L’association des Scouts et Guides de France et son antenne bas-rhinoise (Territoire Rhin-Nord) organisent les 6 et 7 avril un weekend de rencontre avec tous les membres dans la commune de Nothalten. \nLa démarche écoresponsable a été engagée avec EMA pour la première fois cette année. \n\nÉvénement labellisé niveau 2 de notre charte d’engagement des éco-manifestations. Félicitations aux organisateurs !
URL:https://ecomanifestations-alsace.fr/event/week-end-territorial-scouts-et-guides-de-france/
END:VEVENT
BEGIN:VEVENT
DTSTART;VALUE=DATE:20240412
DTEND;VALUE=DATE:20240415
DTSTAMP:20260423T182142
CREATED:20240221T145035Z
LAST-MODIFIED:20240221T145035Z
UID:12118-1712880000-1713139199@ecomanifestations-alsace.fr
SUMMARY:Festival Motàmot - Mulhouse
DESCRIPTION:Le festival Motàmot revient du 12 au 14 avril 2024 pour sa cinquième édition\, avec comme thématique « écrire le monde ».\nCe festival littéraire\, organisé par les bibliothèques de Mulhouse avec de nombreux partenaires\, invite à explorer l’écriture à travers des ateliers\, des échanges\, des spectacles\, des jeux\, des rencontres… Trois jours d’activités intenses et diverses pour permettre à chacun de s’exprimer\, d’expérimenter et de partager ses mots.\n\nRendez-vous à la Filature et au Temple Sainte-Etienne cette année !\n\nÉvénement labellisé par Eco-Manifestations Alsace pour la troisième année consécutive.
URL:https://ecomanifestations-alsace.fr/event/festival-motamot-mulhouse-3/
END:VEVENT
BEGIN:VEVENT
DTSTART;VALUE=DATE:20240412
DTEND;VALUE=DATE:20240414
DTSTAMP:20260423T182142
CREATED:20240221T150534Z
LAST-MODIFIED:20240221T150534Z
UID:12122-1712880000-1713052799@ecomanifestations-alsace.fr
SUMMARY:Classic Grand Besançon Doubs & Tour du Jura
DESCRIPTION:Pour cette nouvelle édition\, la CLASSIC GRAND BESANCON DOUBS (12 avril) et le TOUR DU JURA (13 avril)\, deux courses de cyclistes professionnelles\, ont été labellisées niveau 1 de la charte d’engagement des éco-manifestations pour la deuxième année. \nN’hésitez pas à rejoindre l’équipe de bénévole : https://www.classicgrandbesancondoubs.com/actualites-devenez-benevole\,1646161676.htm \n 
URL:https://ecomanifestations-alsace.fr/event/classic-grand-besancon-doubs-tour-du-jura/
END:VEVENT
BEGIN:VEVENT
DTSTART;VALUE=DATE:20240419
DTEND;VALUE=DATE:20240422
DTSTAMP:20260423T182142
CREATED:20240221T152547Z
LAST-MODIFIED:20240328T154918Z
UID:12124-1713484800-1713743999@ecomanifestations-alsace.fr
SUMMARY:Forum du Livre - Saint Louis
DESCRIPTION:Retrouvez cette année encore et pour sa 41 ème édition\, le forum du Livre de Saint Louis. \nÉvénement littéraire à ne pas manquer ! \nRencontrez de nombreux auteurs et participez aux différentes animations (pour les petits comme pour les grands !). \nPlus d’informations sur le programme : https://forumlivre.fr/animations/
URL:https://ecomanifestations-alsace.fr/event/forum-du-livre-saint-louis-3/
END:VEVENT
BEGIN:VEVENT
DTSTART;VALUE=DATE:20240426
DTEND;VALUE=DATE:20240504
DTSTAMP:20260423T182142
CREATED:20240229T103951Z
LAST-MODIFIED:20240229T103951Z
UID:12126-1714089600-1714780799@ecomanifestations-alsace.fr
SUMMARY:Le printemps de la librairie indépendante - EMS
DESCRIPTION:Retrouvez du 26 avril au 3 mai et pour une première édition « le printemps de la librairie indépendante ». \nDurant cette période\, de nombreuses librairies de l’Eurométropole de Strasbourg ouvriront leurs portes pour vous proposer différents événements (table ronde\, dédicace\, etc.) \nProgramme à venir.
URL:https://ecomanifestations-alsace.fr/event/le-printemps-de-la-librairie-independante-ems/
END:VEVENT
END:VCALENDAR