BEGIN:VCALENDAR
VERSION:2.0
PRODID:-//Eco-Manifestations Alsace - ECPv6.15.11//NONSGML v1.0//EN
CALSCALE:GREGORIAN
METHOD:PUBLISH
X-ORIGINAL-URL:https://ecomanifestations-alsace.fr
X-WR-CALDESC:Évènements pour Eco-Manifestations Alsace
REFRESH-INTERVAL;VALUE=DURATION:PT1H
X-Robots-Tag:noindex
X-PUBLISHED-TTL:PT1H
BEGIN:VTIMEZONE
TZID:Europe/Paris
BEGIN:DAYLIGHT
TZOFFSETFROM:+0100
TZOFFSETTO:+0200
TZNAME:CEST
DTSTART:20230326T010000
END:DAYLIGHT
BEGIN:STANDARD
TZOFFSETFROM:+0200
TZOFFSETTO:+0100
TZNAME:CET
DTSTART:20231029T010000
END:STANDARD
BEGIN:DAYLIGHT
TZOFFSETFROM:+0100
TZOFFSETTO:+0200
TZNAME:CEST
DTSTART:20240331T010000
END:DAYLIGHT
BEGIN:STANDARD
TZOFFSETFROM:+0200
TZOFFSETTO:+0100
TZNAME:CET
DTSTART:20241027T010000
END:STANDARD
BEGIN:DAYLIGHT
TZOFFSETFROM:+0100
TZOFFSETTO:+0200
TZNAME:CEST
DTSTART:20250330T010000
END:DAYLIGHT
BEGIN:STANDARD
TZOFFSETFROM:+0200
TZOFFSETTO:+0100
TZNAME:CET
DTSTART:20251026T010000
END:STANDARD
END:VTIMEZONE
BEGIN:VEVENT
DTSTART;VALUE=DATE:20240426
DTEND;VALUE=DATE:20240504
DTSTAMP:20260423T164106
CREATED:20240229T103951Z
LAST-MODIFIED:20240229T103951Z
UID:12126-1714089600-1714780799@ecomanifestations-alsace.fr
SUMMARY:Le printemps de la librairie indépendante - EMS
DESCRIPTION:Retrouvez du 26 avril au 3 mai et pour une première édition « le printemps de la librairie indépendante ». \nDurant cette période\, de nombreuses librairies de l’Eurométropole de Strasbourg ouvriront leurs portes pour vous proposer différents événements (table ronde\, dédicace\, etc.) \nProgramme à venir.
URL:https://ecomanifestations-alsace.fr/event/le-printemps-de-la-librairie-independante-ems/
END:VEVENT
BEGIN:VEVENT
DTSTART;VALUE=DATE:20240504
DTEND;VALUE=DATE:20240513
DTSTAMP:20260423T164106
CREATED:20240502T135330Z
LAST-MODIFIED:20240502T135636Z
UID:12139-1714780800-1715558399@ecomanifestations-alsace.fr
SUMMARY:Festival l'Humour des Notes - Haguenau
DESCRIPTION:Pour cette nouvelle édition\, le Festival Humour des Notes a obtenu le niveau 3 de notre charte d’engagement ! Un plan d’action consolidé qui a permis à l’événement de devenir une « manifestation écoresponsable et exemplaire ». \nChaque année\, durant la semaine de l’Ascension et le week-end qui précède\, L’Humour des Notes invite le public à se laisser surprendre et émouvoir dans les rues de Haguenau et au Théâtre\, avec des propositions mêlant humour\, musique et originalité. \nL’événement – porté par l’équipe du Relais culturel Théâtre de Haguenau – rassemble habitants\, associations\, services culturels et plus d’une centaine d’artistes pour un temps festif\, convivial et créatif en plein cœur du centre-ville. \nDu Village des Enfants dédié aux familles\, aux spectacles tout public et en tout genre qui envahissent le centre-ville et les communes de la Communauté d’Agglomération de Haguenau\, le festival s’adresse à tous ! \nRetrouvez tout le programme de cette 32ème édition via ce lien : https://humour-des-notes.com/sites/haguenau/files/2023-04/Programme%20HDN%202023_compressed.pdf
URL:https://ecomanifestations-alsace.fr/event/festival-humour-des-notes-haguenau/
END:VEVENT
BEGIN:VEVENT
DTSTART;VALUE=DATE:20240505
DTEND;VALUE=DATE:20240506
DTSTAMP:20260423T164106
CREATED:20240502T140728Z
LAST-MODIFIED:20240503T084825Z
UID:12142-1714867200-1714953599@ecomanifestations-alsace.fr
SUMMARY:Le marché des créateurs - Buswiller
DESCRIPTION:Pour cette première édition\, le marché des créateurs a intégré le projet collectif organisé en partenariat avec le Smictom de Saverne et EMA. \nDans le cadre de ce projet\, l’événement a été accompagné et labellisé niveau 1 de notre charte d’engagement. Accompagnement pris en charge par le Smictom de Saverne. \nRetrouvez des artisans et créateurs locaux pour une journée dans le joli village de Buswiller. \nTravail du bois chantournage gravure. Bijoux fantaisie. Création floral. Bougies parfumées. Thé tisane bière et alimentation le tout made in Alsace . \nRestauration sur place.
URL:https://ecomanifestations-alsace.fr/event/le-marche-des-createurs-buswiller/
END:VEVENT
BEGIN:VEVENT
DTSTART;VALUE=DATE:20240505
DTEND;VALUE=DATE:20240506
DTSTAMP:20260423T164106
CREATED:20240502T141514Z
LAST-MODIFIED:20250304T111812Z
UID:12145-1714867200-1714953599@ecomanifestations-alsace.fr
SUMMARY:Bacchus Tour's - Marlenheim
DESCRIPTION:L’Office de Tourisme Mossig et Vignoble est heureux de reconduire pour la seconde édition son évènement devenu incontournable de la région : Le Bacchus Tours ! Rendez-vous le Dimanche 5 mai 2024 de 9h à 17h à à la Porte Nord de la Route des Vins d’Alsace\, à seulement 20 kilomètres de Strasbourg. \n  © OTI Mossig et Vignoble  \n\nVenez parcourir à votre rythme\, le temps d’une journée\, à pied\, à vélo ou en VTT… les circuits balisés dans les villages du Vignoble de la Couronne d’Or de Strasbourg et découvrir des paysages de cartes postales au cœur des vignes. \nOuvert à tous\, le Bacchus Tours est totalement gratuit et accessible sans inscription. \n4 circuits de randonnée\, 3 circuits de vélo et 3 circuit de VTT seront proposés et seront adaptés à tous les niveaux. \nProfitez des nombreuses animations (concerts\, dégustations de vin\, initiations\, démonstations…) et des points de restauration sur les places festives à Marlenheim\, Westhoffen\, Scharrachbergheim\, Dangolsheim\, Traenheim et Wangen. Ces villages qui jalonnent le parcours\, vous offriront une pause musicale et conviviale. De nombreuses dégustations de vins et de spécialités alsaciennes y seront également proposées afin d’éviter les coups de pompe ! Entre amis ou en famille\, profitez pleinement d’une journée en symbiose avec la nature\, au rythme des activités ludiques et de plaisirs gourmands. \nEvénement labellisé pour la première fois cette année. Obtention du niveau 1 de notre label.
URL:https://ecomanifestations-alsace.fr/event/bacchus-tours-marlenheim/
END:VEVENT
BEGIN:VEVENT
DTSTART;VALUE=DATE:20240508
DTEND;VALUE=DATE:20240513
DTSTAMP:20260423T164106
CREATED:20240502T142538Z
LAST-MODIFIED:20240502T142538Z
UID:12147-1715126400-1715558399@ecomanifestations-alsace.fr
SUMMARY:Les Playades - événement interne
DESCRIPTION:Une compétition sportive organisée par l’Alliance Sportive de Crédit Mutuel\, à destination de l’ensemble des salariés du groupe (du 8 au 12 mai).\nEvénement labellisé niveau 2 de notre label.
URL:https://ecomanifestations-alsace.fr/event/les-playades-evenement-interne/
END:VEVENT
BEGIN:VEVENT
DTSTART;VALUE=DATE:20240508
DTEND;VALUE=DATE:20240513
DTSTAMP:20260423T164106
CREATED:20240502T143934Z
LAST-MODIFIED:20250430T122337Z
UID:12149-1715126400-1715558399@ecomanifestations-alsace.fr
SUMMARY:Festival On The Mississippi - Strasbourg\, Saint-Louis\, Ostwald
DESCRIPTION:Pour cette seconde édition\, le festival On The Mississppi a confirmé son engagement et a obtenu un très bon niveau 2 de labellisation! Félicitations aux organisateurs. \nUn très bel événement\, de boogie\, ragtime\, stride et blues avec de nombreux artistes talentueux à ne surtout pas manquer ! \nRendez-vous du 8 au 12 mai\, au Plan d’Eau à Ostwald\, au Château de Pourtalès à Strasbourg\, à la brasserie Perle et également au Forum à Saint Louis cette année. \nToute la programmation jour par jour sur : https://otmfestival.fr/category/programmation
URL:https://ecomanifestations-alsace.fr/event/festival-on-the-mississippi-strasbourg-saint-louis-ostwald/
END:VEVENT
BEGIN:VEVENT
DTSTART;VALUE=DATE:20240508
DTEND;VALUE=DATE:20240525
DTSTAMP:20260423T164106
CREATED:20240503T085142Z
LAST-MODIFIED:20240503T085142Z
UID:12153-1715126400-1716595199@ecomanifestations-alsace.fr
SUMMARY:Festival mon Mouton est un Lion - Saverne
DESCRIPTION:Le festival jeune public « Mon mouton est un lion »\, porté par l’espace Rohan de Saverne\, est de retour entre le 8 et le 24 mai. Le week-end festif se déroulera dans le parc du château des Rohan\, les 18 et 19 mai. Une belle initiation au spectacle vivant avec des artistes professionnels. \nToute la programmation via ce lien : https://mouton-lion.org/programmation
URL:https://ecomanifestations-alsace.fr/event/festival-mon-mouton-est-un-lion-saverne-2/
END:VEVENT
BEGIN:VEVENT
DTSTART;VALUE=DATE:20240510
DTEND;VALUE=DATE:20240527
DTSTAMP:20260423T164106
CREATED:20240502T145235Z
LAST-MODIFIED:20240502T145235Z
UID:12151-1715299200-1716767999@ecomanifestations-alsace.fr
SUMMARY:Passages Transfestival - Metz
DESCRIPTION:Pour sa nouvelle édition\, le Passages Transfestival s’est labellisé niveau 3 de notre charte d’engagement ! Un beau progrès qui confirme son engagement et entre dans la liste des « événements exemplaires » sur le territoire. \nDu 10 au 26 mai 2024\, Passages Transfestival prend le large pour explorer l’insularité. Presqu’îles\, îlots\, îles\, archipels et petits pays\, les artistes croisent leurs origines et leurs pratiques du Cap-Vert à Mayotte\, de Tahiti à Cuba en passant par le Japon et les Antilles. Ils naviguent aussi du Brésil au Rwanda en traversant la Suisse\, cette île nichée au cœur de l’Europe\, qui sera l’invitée spéciale du Transfestival avec la collaboration exceptionnelle du Centre culturel suisse. On tour à Metz. \nN’attendez plus pour prendre vos billets ! https://passages-transfestival.mapado.com/ \n 
URL:https://ecomanifestations-alsace.fr/event/passages-transfestival-metz-2/
END:VEVENT
BEGIN:VEVENT
DTSTART;VALUE=DATE:20240517
DTEND;VALUE=DATE:20240518
DTSTAMP:20260423T164106
CREATED:20240503T091204Z
LAST-MODIFIED:20240503T091204Z
UID:12161-1715904000-1715990399@ecomanifestations-alsace.fr
SUMMARY:Vernissage des Ateliers Ouverts - Strasbourg
DESCRIPTION:Les Ateliers Ouverts reviennent pour un nouvel événement du 18 au 26 mai. \nLe vernissage (et l’ouverture de l’événement) a été à nouveau labellisé cette année. \nVenez découvrir et rencontrer 40 artistes au Bastion 14\, ancienne fortification de la Ville jusqu’à 22h\, et la cour des remparts accueille jusqu’à une heure du matin un mini-festival composé d’une série de concerts gratuits et de performances. \nRestauration sur place.
URL:https://ecomanifestations-alsace.fr/event/vernissage-des-ateliers-ouverts-strasbourg-2/
END:VEVENT
BEGIN:VEVENT
DTSTART;VALUE=DATE:20240518
DTEND;VALUE=DATE:20240521
DTSTAMP:20260423T164106
CREATED:20240503T090124Z
LAST-MODIFIED:20240503T090124Z
UID:12158-1715990400-1716249599@ecomanifestations-alsace.fr
SUMMARY:Rando Moselle - Saint-Quirin
DESCRIPTION:[RANDO MOSELLE 2024] \nLe plus grand festival de la randonnée à thèmes du Grand Est est de retour sur le territoire avec 40 balades ! \n\n\n Du 18 au 20 mai\n Saint-Quirin\n\n\nAu programme :\n– 40 randonnées pour tous les niveaux \n– Village d’animations \n– Rééquilibrage énergétique \n– Deux concerts \n– Restauration sur place \n\n\nProgramme complet et inscriptions préalables par ici  tinyurl.com/rando-moselle-2024\n—
URL:https://ecomanifestations-alsace.fr/event/rando-moselle-saint-quirin/
END:VEVENT
BEGIN:VEVENT
DTSTART;VALUE=DATE:20240519
DTEND;VALUE=DATE:20240520
DTSTAMP:20260423T164106
CREATED:20240503T091701Z
LAST-MODIFIED:20240503T091701Z
UID:12163-1716076800-1716163199@ecomanifestations-alsace.fr
SUMMARY:Fête de la Nature - Lohr
DESCRIPTION:Le Dimanche 19 mai\, de 14h à 22h\, l’Association Les Piverts organise sa « Fête de la Nature » à Lohr. \nAu programme : des animations\, un spectacle pour les enfants\, un concert\, et des stands de producteurs et artisans locaux. \nDiverses activités seront proposées aux visiteurs tout au long de l’après-midi et de la soirée. \nVenez participer à cet événement local\, convivial et responsable ! \nEvénement labellisé niveau 2.
URL:https://ecomanifestations-alsace.fr/event/fete-de-la-nature-lohr-2/
END:VEVENT
BEGIN:VEVENT
DTSTART;VALUE=DATE:20240523
DTEND;VALUE=DATE:20240527
DTSTAMP:20260423T164106
CREATED:20240503T092657Z
LAST-MODIFIED:20240503T092657Z
UID:12165-1716422400-1716767999@ecomanifestations-alsace.fr
SUMMARY:Pelpass Festival - Strasbourg
DESCRIPTION:Cette année encore\, le Pelpass Festival revient au Jardin des Deux Rives à Strasbourg du 23 au 26 mai et pour cette nouvelle édition\, le Festival a obtenu le niveau 2 de notre label ! \nToute la programmation sur : https://pelpass.net/pelpass-festival-2024/ \nN’attendez plus pour prendre vos billets ! https://shotgun.live/fr/venues/pelpass
URL:https://ecomanifestations-alsace.fr/event/pelpass-festival-strasbourg-2/
END:VEVENT
BEGIN:VEVENT
DTSTART;VALUE=DATE:20240525
DTEND;VALUE=DATE:20240527
DTSTAMP:20260423T164106
CREATED:20240503T093259Z
LAST-MODIFIED:20250304T140705Z
UID:12167-1716595200-1716767999@ecomanifestations-alsace.fr
SUMMARY:24h de Baden-Powell - Mulhouse
DESCRIPTION:Les 24h de Baden Powell\, le 25 et 26 mai\, au circuit Peugeot de Mulhouse.\nEvénement annuel du scoutisme français ! 🚴‍♂️🏅 \nEvénement accompagné pour la première fois et labellisé niveau 2 ! Félicitations aux organisateurs.
URL:https://ecomanifestations-alsace.fr/event/24h-de-baden-powell-mulhouse/
END:VEVENT
BEGIN:VEVENT
DTSTART;VALUE=DATE:20240528
DTEND;VALUE=DATE:20240603
DTSTAMP:20260423T164106
CREATED:20240503T093533Z
LAST-MODIFIED:20240503T093533Z
UID:12169-1716854400-1717372799@ecomanifestations-alsace.fr
SUMMARY:Kaleidoscoopie - Strasbourg
DESCRIPTION:Kaleidoscoopie #2\n Du 28 mai au 2 juin 2024\n Kaleidoscoop – quartier COOP – Port du Rhin\n\n\nParticipez à une semaine d’expositions\, de conférences inspirantes\, d’ateliers créatifs\, de visites inédites\, de concerts et de performances artistiques pour explorer ensemble les voies d’un avenir plus durable et équitable \n\n\n\nEvénement accompagné pour la première fois cette année et labellisé niveau 3 de notre label !! Félicitations aux organisateurs.
URL:https://ecomanifestations-alsace.fr/event/kaleidoscoopie-strasbourg/
END:VEVENT
END:VCALENDAR