BEGIN:VCALENDAR
VERSION:2.0
PRODID:-//Eco-Manifestations Alsace - ECPv6.15.11//NONSGML v1.0//EN
CALSCALE:GREGORIAN
METHOD:PUBLISH
X-WR-CALNAME:Eco-Manifestations Alsace
X-ORIGINAL-URL:https://ecomanifestations-alsace.fr
X-WR-CALDESC:Évènements pour Eco-Manifestations Alsace
REFRESH-INTERVAL;VALUE=DURATION:PT1H
X-Robots-Tag:noindex
X-PUBLISHED-TTL:PT1H
BEGIN:VTIMEZONE
TZID:Europe/Paris
BEGIN:DAYLIGHT
TZOFFSETFROM:+0100
TZOFFSETTO:+0200
TZNAME:CEST
DTSTART:20230326T010000
END:DAYLIGHT
BEGIN:STANDARD
TZOFFSETFROM:+0200
TZOFFSETTO:+0100
TZNAME:CET
DTSTART:20231029T010000
END:STANDARD
BEGIN:DAYLIGHT
TZOFFSETFROM:+0100
TZOFFSETTO:+0200
TZNAME:CEST
DTSTART:20240331T010000
END:DAYLIGHT
BEGIN:STANDARD
TZOFFSETFROM:+0200
TZOFFSETTO:+0100
TZNAME:CET
DTSTART:20241027T010000
END:STANDARD
BEGIN:DAYLIGHT
TZOFFSETFROM:+0100
TZOFFSETTO:+0200
TZNAME:CEST
DTSTART:20250330T010000
END:DAYLIGHT
BEGIN:STANDARD
TZOFFSETFROM:+0200
TZOFFSETTO:+0100
TZNAME:CET
DTSTART:20251026T010000
END:STANDARD
END:VTIMEZONE
BEGIN:VEVENT
DTSTART;VALUE=DATE:20240704
DTEND;VALUE=DATE:20240809
DTSTAMP:20260423T002730
CREATED:20240628T115049Z
LAST-MODIFIED:20240628T115049Z
UID:12215-1720051200-1723161599@ecomanifestations-alsace.fr
SUMMARY:Les jeudis du parc - Mulhouse
DESCRIPTION:Chaque été\, le parc Salvator vous invite tous les jeudis à découvrir de nouvelles prestations musicales\, ou artistiques suivi d’une séance de ciné plein air. \nPour cette nouvelle année\, les Jeudis du Parc vous proposent une belle programmation : https://www.tourisme-mulhouse.com/offres/les-jeudis-du-parc-salvator-mulhouse-fr-4047345/ \nEvénement labellisé niveau 2.
URL:https://ecomanifestations-alsace.fr/event/les-jeudis-du-parc-mulhouse-3/
END:VEVENT
BEGIN:VEVENT
DTSTART;VALUE=DATE:20240705
DTEND;VALUE=DATE:20240831
DTSTAMP:20260423T002730
CREATED:20240628T122419Z
LAST-MODIFIED:20240628T122446Z
UID:12229-1720137600-1725062399@ecomanifestations-alsace.fr
SUMMARY:Cinéma Plein Air - Strasbourg
DESCRIPTION:Tous les vendredis du 5 juillet au 30 août\, rejoignez-nous dans les différents quartiers de Strasbourg pour profiter de notre programmation haute en couleurs ! \nEn début de soirée\, détendez-vous dans les parcs et participez aux animations d’avant-séance\, tout en profitant des mix de DJs de la scène locale. Une petite soif ou une petite faim ? Une buvette et des food trucks sont à votre disposition pour vous régaler à chaque séance. \nQuand la nuit tombe\, le parc s’apaise\, l’herbe se rafraichit\, la musique se calme\, les animaux chuchotent et l’écran s’allume : le film va commencer… \n\nInfos pratiques : \n\nÉvénements gratuits et tous publics\nAnimations à partir de 18h (DJ set\, jeux en bois\, ateliers et bien plus encore)\nBuvette et food trucks sur place\nProjections à la nuit tombée\nSéances accessibles aux personnes à mobilité réduite\n\n\nEvénement labellisé niveau 1 de notre label.
URL:https://ecomanifestations-alsace.fr/event/cinema-plein-air-strasbourg/
END:VEVENT
BEGIN:VEVENT
DTSTART;VALUE=DATE:20240731
DTEND;VALUE=DATE:20240805
DTSTAMP:20260423T002730
CREATED:20240726T093812Z
LAST-MODIFIED:20240726T093812Z
UID:12252-1722384000-1722815999@ecomanifestations-alsace.fr
SUMMARY:Festival Mômes en Scène - Niderbronn
DESCRIPTION:Mômes en Scène\, qui fêtera cette année ses 20 ans\, est un festival des arts vivants dédié au jeune public\, où pendant plusieurs jours les arts de la rue sont à l’honneur pour le plus grand bonheur des petits et des grands ! \nArtistes\, musiciens\, comédiens\, chanteurs\, marionnettistes et inventeurs en tout genre se succéderont pour exprimer leur créativité et leur talent. \nC’est donc l’occasion de partager en famille un moment de détente\, de bonheur\, de joie\, de rire… \nPetits et grands sont invités à découvrir les nombreux spectacles\, animations et jeux proposés. Des compagnies régionales et nationales font le déplacement à Niederbronn-les-Bains chaque année pour proposer des spectacles de qualité. \nUn événement accompagné par notre équipe pour la première fois cette année et qui a obtenu le niveau 3 de notre label ! Félicitations aux organisateurs ! \nCet accompagnement a été pris en charge par le smictom Nord Alsace dans le cadre de son partenariat avec EMA.
URL:https://ecomanifestations-alsace.fr/event/festival-momes-en-scene-niderbronn/
END:VEVENT
BEGIN:VEVENT
DTSTART;VALUE=DATE:20240811
DTEND;VALUE=DATE:20240812
DTSTAMP:20260423T002730
CREATED:20240722T133406Z
LAST-MODIFIED:20240722T133406Z
UID:12248-1723334400-1723420799@ecomanifestations-alsace.fr
SUMMARY:Fête de la Bretzel - Uttwiller
DESCRIPTION:Depuis 1997\, le deuxième dimanche du mois d’août\, se déroule la traditionnelle fête de la Bretzel. Cette fête draine chaque année une foule de plusieurs milliers de personnes dans les rues consacrées ce jour-là aux bonnes affaires par son marché aux puces d’environs 150 exposants répartis sur l’ensemble des rues du village. \nRendez-vous cette année le 11 août dans les rues d’Uttwiller. \nEvénement accompagné par notre équipe pour la première fois cette année. Obtention du label niveau 1. \nAccompagnement pris en charge par le Smictom de Saverne dans le cadre de son partenariat avec EMA.
URL:https://ecomanifestations-alsace.fr/event/fete-de-la-bretzel-uttwiller/
END:VEVENT
BEGIN:VEVENT
DTSTART;VALUE=DATE:20240822
DTEND;VALUE=DATE:20240826
DTSTAMP:20260423T002730
CREATED:20240722T133822Z
LAST-MODIFIED:20240722T133822Z
UID:12250-1724284800-1724630399@ecomanifestations-alsace.fr
SUMMARY:Fête de la Mirabelle - Metz
DESCRIPTION:Retrouvez cette année encore\, les célèbres fêtes de la Mirabelle du 22 au 25 août à l‘Esplanade et au plan d’eau. \nL’édition 2024 se déroulera sur 4 jours de festivités et 4 jours de Montgolfiades et  propose à nouveau les rendez-vous à succès tels que le Couronnement de la Reine de la Mirabelle\, le Marché des Saveurs et des Arts\, la parade nautique…mais aussi l’espace de restauration\, un espace de détente et de jeux\, des déambulations\, animations et une scène artistiques\, tout en intégrant des nouveautés comme la Mirabelle du rire\, Quattropole Sessions et des formes atypiques et participatives pour encore plus de qualité. En tout la Ville de Metz vous propose 40 rendez-vous culturels. \nPlus d’informations sur : https://metz.fr/actus/2024/240625_fetes_de_la_mirabelle_2024.php \nEvénement labellisé niveau 2 de notre charte d’engagement !
URL:https://ecomanifestations-alsace.fr/event/fete-de-la-mirabelle-metz/
END:VEVENT
BEGIN:VEVENT
DTSTART;VALUE=DATE:20240825
DTEND;VALUE=DATE:20240826
DTSTAMP:20260423T002730
CREATED:20240726T093947Z
LAST-MODIFIED:20240726T093947Z
UID:12255-1724544000-1724630399@ecomanifestations-alsace.fr
SUMMARY:Sonnenfascht En'Carspach
DESCRIPTION:Cette année encore\, la Sonnenfascht a confirmé sa démarche écoresponsable et a obtenu le label niveau 2 de notre charte d’engagement ! \nFête tournée vers la nature et l’écologie\, retrouvez de nombreuses animations\, stands et jeux pour les petits et les grands ! Rendez-vous\, le 27 août dans le parc du Lycée Sonnenberg. \nOrganisé par l’Association Fascht de Carspach.
URL:https://ecomanifestations-alsace.fr/event/sonnenfascht-encarspach-3/
END:VEVENT
BEGIN:VEVENT
DTSTART;VALUE=DATE:20240825
DTEND;VALUE=DATE:20240826
DTSTAMP:20260423T002730
CREATED:20240726T094432Z
LAST-MODIFIED:20240726T094432Z
UID:12257-1724544000-1724630399@ecomanifestations-alsace.fr
SUMMARY:Fête de la Mirabelle - Dorlisheim
DESCRIPTION:Retrouver le dimanche 25 août la célèbre fête de la Mirabelle dans les rues de Dorlisheim.\nUn marché artisanal est organisé afin qu’artisans et créateurs présentent leurs créations.\n\n\nDes stands alimentaires vous seront également proposés.\n\n\nUn événement accompagné pour la première fois cette année et qui a obtenu le niveau 1 de notre label.\n\nCet accompagnement a été pris en charge par le Select’Om dans le cadre de son partenariat avec EMA.
URL:https://ecomanifestations-alsace.fr/event/fete-de-la-mirabelle-dorlisheim/
END:VEVENT
BEGIN:VEVENT
DTSTART;VALUE=DATE:20240830
DTEND;VALUE=DATE:20240902
DTSTAMP:20260423T002730
CREATED:20240726T103626Z
LAST-MODIFIED:20240726T103626Z
UID:12259-1724976000-1725235199@ecomanifestations-alsace.fr
SUMMARY:Underground Moutain Festival - Haguenau
DESCRIPTION:Le festival Underground Mountain c’est :\n– musique non stop\n– DJs\n– Des stands de DIY\, de maquillage paillettes\, de prévention écologique\n– Et d’autres surprises ! \nRdv du 30/08 au 01/09 à l’Etang du Nonnenhof\, route de Schirrhein | Haguenau \nBilletterie : https://www.helloasso.com/associations/underground-mountain/evenements/underground-mountain-veme-edition \nEvénement accompagné pour la première fois cette année et qui a obtenu le niveau 3 de notre label !
URL:https://ecomanifestations-alsace.fr/event/underground-moutain-festival-haguenau/
END:VEVENT
END:VCALENDAR