BEGIN:VCALENDAR
VERSION:2.0
PRODID:-//Eco-Manifestations Alsace - ECPv6.15.11//NONSGML v1.0//EN
CALSCALE:GREGORIAN
METHOD:PUBLISH
X-ORIGINAL-URL:https://ecomanifestations-alsace.fr
X-WR-CALDESC:Évènements pour Eco-Manifestations Alsace
REFRESH-INTERVAL;VALUE=DURATION:PT1H
X-Robots-Tag:noindex
X-PUBLISHED-TTL:PT1H
BEGIN:VTIMEZONE
TZID:Europe/Paris
BEGIN:DAYLIGHT
TZOFFSETFROM:+0100
TZOFFSETTO:+0200
TZNAME:CEST
DTSTART:20230326T010000
END:DAYLIGHT
BEGIN:STANDARD
TZOFFSETFROM:+0200
TZOFFSETTO:+0100
TZNAME:CET
DTSTART:20231029T010000
END:STANDARD
BEGIN:DAYLIGHT
TZOFFSETFROM:+0100
TZOFFSETTO:+0200
TZNAME:CEST
DTSTART:20240331T010000
END:DAYLIGHT
BEGIN:STANDARD
TZOFFSETFROM:+0200
TZOFFSETTO:+0100
TZNAME:CET
DTSTART:20241027T010000
END:STANDARD
BEGIN:DAYLIGHT
TZOFFSETFROM:+0100
TZOFFSETTO:+0200
TZNAME:CEST
DTSTART:20250330T010000
END:DAYLIGHT
BEGIN:STANDARD
TZOFFSETFROM:+0200
TZOFFSETTO:+0100
TZNAME:CET
DTSTART:20251026T010000
END:STANDARD
END:VTIMEZONE
BEGIN:VEVENT
DTSTART;VALUE=DATE:20240830
DTEND;VALUE=DATE:20240902
DTSTAMP:20260422T165446
CREATED:20240726T103626Z
LAST-MODIFIED:20240726T103626Z
UID:12259-1724976000-1725235199@ecomanifestations-alsace.fr
SUMMARY:Underground Moutain Festival - Haguenau
DESCRIPTION:Le festival Underground Mountain c’est :\n– musique non stop\n– DJs\n– Des stands de DIY\, de maquillage paillettes\, de prévention écologique\n– Et d’autres surprises ! \nRdv du 30/08 au 01/09 à l’Etang du Nonnenhof\, route de Schirrhein | Haguenau \nBilletterie : https://www.helloasso.com/associations/underground-mountain/evenements/underground-mountain-veme-edition \nEvénement accompagné pour la première fois cette année et qui a obtenu le niveau 3 de notre label !
URL:https://ecomanifestations-alsace.fr/event/underground-moutain-festival-haguenau/
END:VEVENT
BEGIN:VEVENT
DTSTART;VALUE=DATE:20240901
DTEND;VALUE=DATE:20240902
DTSTAMP:20260422T165446
CREATED:20240830T142610Z
LAST-MODIFIED:20240830T142610Z
UID:12262-1725148800-1725235199@ecomanifestations-alsace.fr
SUMMARY:Fête de la Nature - Jarny
DESCRIPTION:Toute la journée retrouvez de nombreuse activités pour cette 20ème édition : \n\nBus de la transition écologique\nMaison des écogestes\nAtelier Mobile par “Metz à Vélo”\nBalade en trottinette tout-terrain\nFerme pédagogique de Woimbey\nObservation de la faune et la flore\nChasse aux trésors\nÉcoplanète en réalité virtuelle\n\nDès 10h au domaine de Moncel. \nEvénement accompagné par notre équipe pour la première fois cette année. \nObtention du niveau 2 de notre label\, félicitations aux organisateurs !
URL:https://ecomanifestations-alsace.fr/event/fete-de-la-nature-jarny/
END:VEVENT
BEGIN:VEVENT
DTSTART;VALUE=DATE:20240906
DTEND;VALUE=DATE:20240909
DTSTAMP:20260422T165446
CREATED:20240830T144649Z
LAST-MODIFIED:20240830T144649Z
UID:12264-1725580800-1725839999@ecomanifestations-alsace.fr
SUMMARY:Hésingue en Fête
DESCRIPTION:Pour la seconde année consécutive\, l’événement Hésingue en Fête a obtenu le label niveau 2 de notre charte d’engagement ! \nVenez découvrir les activités proposées par les associations Hésinguoises et testez les différents sports et jeux avec vos enfants\, dans La Comète mais aussi à l’extérieur du complexe ! \nDe la petite restauration sera également proposée sur place (crêpes\, gaufres\, tartes flambées\, etc.) \nVenez en famille et profitez gratuitement des activités proposées !
URL:https://ecomanifestations-alsace.fr/event/hesingue-en-fete-2/
END:VEVENT
BEGIN:VEVENT
DTSTART;VALUE=DATE:20240907
DTEND;VALUE=DATE:20240909
DTSTAMP:20260422T165446
CREATED:20240830T145748Z
LAST-MODIFIED:20240830T145748Z
UID:12266-1725667200-1725839999@ecomanifestations-alsace.fr
SUMMARY:Les journées d'Automne & des Associations - Riedisheim
DESCRIPTION:Les Journées d’Automne et des Associations à Riedisheim\, c’est l’occasion de découvrir la vitalité des associations locales de la commune et de faire le plein d’animations en ce premier week-end après la rentrée scolaire ! \nComme chaque année\, des expositions et de nombreuses animations seront proposées lors de ces journées\, avec notamment le forum des associations locales\, le village gourmand ou encore le marché aux puces. \nEvénement labellisé niveau 2 cette année !
URL:https://ecomanifestations-alsace.fr/event/les-journees-dautomne-des-associations-riedisheim/
END:VEVENT
BEGIN:VEVENT
DTSTART;VALUE=DATE:20240908
DTEND;VALUE=DATE:20240909
DTSTAMP:20260422T165446
CREATED:20240830T150205Z
LAST-MODIFIED:20240830T150205Z
UID:12268-1725753600-1725839999@ecomanifestations-alsace.fr
SUMMARY:COW - Wolfisheim
DESCRIPTION:Après une petite pause d’une année\, la Course d’Oberschaeffolsheim et Wolfisheim revient avec ces différents parcours : \n \n\n5km C.O.W à 9h15 – coureurs nés en 2010 et avant – Nouveau parcours\n5km DUO à 9h15 – coureurs nés en 2010 et avant – Courir à deux et passer la ligne d’arrivée ensemble !\n10km C.O.W à 10h00 – coureurs nés en 2008 et avant – Nouveau parcours – toujours 1 seule boucle !\n9km Marche populaire / marche nordique chronométrée à 9h50\nCourse des enfants nés de 2015 à 2020\, 850m à 11h20\nCourse des jeunes nés de 2011 à 2014\, 1700m à 11h50\n\nINSCRIVEZ VOUS ICI aux courses ! \nEvénement labellisé niveau 2.
URL:https://ecomanifestations-alsace.fr/event/cow-wolfisheim/
END:VEVENT
BEGIN:VEVENT
DTSTART;VALUE=DATE:20240914
DTEND;VALUE=DATE:20240916
DTSTAMP:20260422T165446
CREATED:20240830T151334Z
LAST-MODIFIED:20240830T151334Z
UID:12270-1726272000-1726444799@ecomanifestations-alsace.fr
SUMMARY:Les Mulhousiennes - Mulhouse
DESCRIPTION:La course des Mulhousiennes est un événement sportif et solidaire qui a lieu chaque année à Mulhouse depuis 2014 et qui rassemble près de 8 000 participants sur un week-end. Son objectif : lutter contre les cancers en soutenant des projets concrets et locaux.\n\nQuatre courses au choix pour lutter contre le cancer\, selon votre tranche d’âge et vos préférences : adultes ou enfants\, course ou marche\, au stade de l’Ill ou à distance \n\nToutes les informations sur le site Les Mulhousiennes\n\nEvénement labellisé niveau 2.
URL:https://ecomanifestations-alsace.fr/event/les-mulhousiennes-mulhouse-3/
END:VEVENT
BEGIN:VEVENT
DTSTART;VALUE=DATE:20240920
DTEND;VALUE=DATE:20240930
DTSTAMP:20260422T165446
CREATED:20240830T151851Z
LAST-MODIFIED:20240830T151851Z
UID:12273-1726790400-1727654399@ecomanifestations-alsace.fr
SUMMARY:Festival Européen du Film Fantastique - Strasbourg
DESCRIPTION:Le festival européen du film fantastique de Strasbourg est de retour cette année ! \nLa programmation éclectique du Festival de Strasbourg\, mêlant cinéma indépendant\, cinéma de studios\, cinéma d’auteur et cinéma de niche\, à laquelle s’ajoutent des manifestations parallèles très diverses\, attire chaque année un public nombreux et varié. \nVenez découvrir tout ceci sur leur site internet.
URL:https://ecomanifestations-alsace.fr/event/festival-europeen-du-film-fantastique-strasbourg/
END:VEVENT
BEGIN:VEVENT
DTSTART;VALUE=DATE:20240921
DTEND;VALUE=DATE:20240923
DTSTAMP:20260422T165446
CREATED:20240830T152350Z
LAST-MODIFIED:20240830T152350Z
UID:12275-1726876800-1727049599@ecomanifestations-alsace.fr
SUMMARY:Jardins de ville\, Jardins de vie - Nancy
DESCRIPTION:Le rendez-vous annuel de la Métropole du Grand Nancy invite curieux comme amateurs à s’initier aux écogestes à travers différents ateliers\, spectacles et tables rondes\, au Domaine de Montaigu\, à Jarville-la-Malgrange\, le week-end du 25 septembre. \nComment vivre\, habiter\, consommer et agir durablement ? Au programme : spectacles\, ateliers\, start-ups\, producteurs locaux\, concert et tables-rondes. \nEntrée gratuite. \nEvénement labellisé niveau 2.
URL:https://ecomanifestations-alsace.fr/event/jardins-de-ville-jardins-de-vie-nancy-3/
END:VEVENT
BEGIN:VEVENT
DTSTART;VALUE=DATE:20240922
DTEND;VALUE=DATE:20240923
DTSTAMP:20260422T165446
CREATED:20240830T152632Z
LAST-MODIFIED:20240830T152632Z
UID:12277-1726963200-1727049599@ecomanifestations-alsace.fr
SUMMARY:Tour-Vélo - Molsheim
DESCRIPTION:Pour la 22ème édition\, le Tour-Vélo s’est fait accompagner par notre équipe et a obtenu le niveau 1 de notre label ! \nPartez à la découverte des pistes cyclables de la Communauté de Communes de Molsheim Mutzig à travers plusieurs thématiques : La mobilité douce\, l’eau et l’énergie et la valorisation des déchets ! \n4 points de départs et 4 ravitaillements sont à retrouver sur votre parcours. \nPlus d’informations sur : https://www.cc-molsheim-mutzig.fr/decouvrir/velo-tour.htm
URL:https://ecomanifestations-alsace.fr/event/tour-velo-molsheim/
END:VEVENT
BEGIN:VEVENT
DTSTART;VALUE=DATE:20240924
DTEND;VALUE=DATE:20240925
DTSTAMP:20260422T165446
CREATED:20240830T153118Z
LAST-MODIFIED:20240830T153118Z
UID:12279-1727136000-1727222399@ecomanifestations-alsace.fr
SUMMARY:Les Rencontres Livr'Est - Strasbourg
DESCRIPTION:Cette 6e édition des Rencontres professionnelles du livre\, rebaptisées Rencontres Livr’Est\, se tiendra le 24 septembre à L’Aubette 1928\, 31\, place Kléber\, à Strasbourg. \nCes rencontres sont l’occasion pour l’ensemble des acteurs du livre en Grand Est de réfléchir collectivement aux actualités et évolutions de leurs professions. Elles représentent aussi un lieu d’échange de bonnes pratiques et de partage entre professionnels. \nL’édition de cette année sera notamment dédiée à l’accès à la culture et à la médiation littéraire dans le domaine du livre.
URL:https://ecomanifestations-alsace.fr/event/les-rencontres-livrest-strasbourg/
END:VEVENT
BEGIN:VEVENT
DTSTART;VALUE=DATE:20240928
DTEND;VALUE=DATE:20240930
DTSTAMP:20260422T165446
CREATED:20240830T153454Z
LAST-MODIFIED:20240830T153454Z
UID:12282-1727481600-1727654399@ecomanifestations-alsace.fr
SUMMARY:Festival de la Soupe au Jardin - Sainte Croix aux Mines
DESCRIPTION:L’Association Un Jardin Passionnément vous donne rendez-vous les 28 et 29 septembre aux jardins du Parc de la Villa Burrus. \nDans ce cadre bucolique\, près de 50 soupes d’ici et d’ailleurs\, traditionnelles et originales\, savoureuses et colorées\, réalisées par des bénévoles\, des associations\, des restaurateurs ainsi que des chefs étoilés et des membres de La Fraternelle des Cuisiniers d’Alsace sont proposées à la dégustation ! \nAu-delà de la soupe\, le Festival est un véritable rendez-vous culturel et familial dans le Val d’Argent avec des expositions\, animations\, conférences\, artisans locaux\, spectacles musicaux originaux ainsi qu’un désormais traditionnel Grand Bal Folk le samedi soir dès 19h. \nEntrée gratuite pour les moins de 18 ans.
URL:https://ecomanifestations-alsace.fr/event/festival-de-la-soupe-au-jardin-sainte-croix-aux-mines-2/
END:VEVENT
END:VCALENDAR