BEGIN:VCALENDAR
VERSION:2.0
PRODID:-//Eco-Manifestations Alsace - ECPv6.15.11//NONSGML v1.0//EN
CALSCALE:GREGORIAN
METHOD:PUBLISH
X-WR-CALNAME:Eco-Manifestations Alsace
X-ORIGINAL-URL:https://ecomanifestations-alsace.fr
X-WR-CALDESC:Évènements pour Eco-Manifestations Alsace
REFRESH-INTERVAL;VALUE=DURATION:PT1H
X-Robots-Tag:noindex
X-PUBLISHED-TTL:PT1H
BEGIN:VTIMEZONE
TZID:Europe/Paris
BEGIN:DAYLIGHT
TZOFFSETFROM:+0100
TZOFFSETTO:+0200
TZNAME:CEST
DTSTART:20230326T010000
END:DAYLIGHT
BEGIN:STANDARD
TZOFFSETFROM:+0200
TZOFFSETTO:+0100
TZNAME:CET
DTSTART:20231029T010000
END:STANDARD
BEGIN:DAYLIGHT
TZOFFSETFROM:+0100
TZOFFSETTO:+0200
TZNAME:CEST
DTSTART:20240331T010000
END:DAYLIGHT
BEGIN:STANDARD
TZOFFSETFROM:+0200
TZOFFSETTO:+0100
TZNAME:CET
DTSTART:20241027T010000
END:STANDARD
BEGIN:DAYLIGHT
TZOFFSETFROM:+0100
TZOFFSETTO:+0200
TZNAME:CEST
DTSTART:20250330T010000
END:DAYLIGHT
BEGIN:STANDARD
TZOFFSETFROM:+0200
TZOFFSETTO:+0100
TZNAME:CET
DTSTART:20251026T010000
END:STANDARD
END:VTIMEZONE
BEGIN:VEVENT
DTSTART;TZID=Europe/Paris:20241004T170000
DTEND;TZID=Europe/Paris:20241004T200000
DTSTAMP:20260422T145530
CREATED:20241002T114726Z
LAST-MODIFIED:20241002T114726Z
UID:12308-1728061200-1728072000@ecomanifestations-alsace.fr
SUMMARY:Marché Paysan - Ensisheim
DESCRIPTION:Le marché paysan a lieu tous les premiers vendredis du mois : les producteurs locaux s’installent sur la place de l’Église à Ensisheim pour vendre leurs produits frais et artisanaux. \nDes animations différentes et gratuites sont programmées chaque mois. Retrouvez au marché : une buvette\, une ambiance musicale guinguette assurée par l’association d’accordéonistes d’Ensisheim ainsi que de délicieuses tartes flambées proposées par d’autres associations locales et en plus cette année : un food truck différent chaque mois ! \nVendredi 4 octobre : dégustation de vin nouveau offerte par la Ville. \nCet accompagnement a été pris en charge par le PETR Pays Rhin Vignoble Grand-Ballon dans le cadre de son partenariat avec EMA.
URL:https://ecomanifestations-alsace.fr/event/marche-paysan-ensisheim/
END:VEVENT
BEGIN:VEVENT
DTSTART;TZID=Europe/Paris:20241004T170000
DTEND;TZID=Europe/Paris:20241004T230000
DTSTAMP:20260422T145530
CREATED:20241002T091427Z
LAST-MODIFIED:20241002T091427Z
UID:12289-1728061200-1728082800@ecomanifestations-alsace.fr
SUMMARY:La Molshémienne - Molsheim
DESCRIPTION:Participez à la 6ème édition de la Molshémienne !\n\nAu programme : Marche & Course rose de 5 km à travers la Ville.\n\n13 € dont 5 € reversés à la Ligue contre le cancer.\n\nInfos & inscriptions : https://lamolshemienne.fr
URL:https://ecomanifestations-alsace.fr/event/la-molshemienne-molsheim-3/
END:VEVENT
BEGIN:VEVENT
DTSTART;VALUE=DATE:20241012
DTEND;VALUE=DATE:20241013
DTSTAMP:20260422T145530
CREATED:20241002T092144Z
LAST-MODIFIED:20241002T114928Z
UID:12291-1728691200-1728777599@ecomanifestations-alsace.fr
SUMMARY:Fête Médiévale - Ensisheim
DESCRIPTION:Ensisheim se transforme en cité médiévale le samedi 12 octobre\nDans le cadre de la Journée nationale du commerce de proximité\, l’ACADE (Association des Commerçants et Artisans Débitants d’Ensisheim) et la Ville d’Ensisheim – dans le Haut-Rhin – transforment la rue principale et la place de l’Église en cité médiévale le samedi 12 octobre 2024 de 10h à 18h faisant référence aux différentes manifestations sur les Habsbourg en 2024. \nAnimations médiévales – auxquelles les Médiévales de Gueberschwihr prendront part – et restauration sur place. \nUn événement accompagné pour la première fois par notre équipe cette année. Obtention du niveau 1\, félicitations ! \nCet accompagnement a été pris en charge par le PETR Pays Rhin Vignoble Grand-Ballon dans le cadre de son partenariat avec EMA. \n 
URL:https://ecomanifestations-alsace.fr/event/fete-medievale-ensisheim/
END:VEVENT
BEGIN:VEVENT
DTSTART;VALUE=DATE:20241012
DTEND;VALUE=DATE:20241014
DTSTAMP:20260422T145530
CREATED:20241002T094935Z
LAST-MODIFIED:20241002T095304Z
UID:12299-1728691200-1728863999@ecomanifestations-alsace.fr
SUMMARY:Fête de l'écologie & Jard'in - Metz
DESCRIPTION:La Ville de Metz\, l’Eurométropole de Metz et les associations engagées dans la transition écologique organisent le samedi 12 et dimanche 13 octobre 2024\, Jard’in Metz et la Fête de l’Ecologie. L’occasion de découvrir les acteurs engagés sur le Territoire pour défendre et promouvoir l’écologie en ville et découvrir onze jardins secrets en accès libre. \nRejoignez-les pour un week-end dédié à la nature et à la découverte de la biodiversité urbaine dans l’écrin magnifique des jardins de l’Esplanade. Venez profiter du Village associatif sur l’Esplanade et rencontrer les acteurs de la nature en ville et du jardinage urbain\, participez aux nombreuses animations proposées et visitez des jardins secrets exceptionnels. \nEntrée libre – Restauration sur place \nEvénement labellisé niveau 1 de notre label\, félicitations !
URL:https://ecomanifestations-alsace.fr/event/fete-de-lecologie-jardin-metz/
END:VEVENT
BEGIN:VEVENT
DTSTART;VALUE=DATE:20241013
DTEND;VALUE=DATE:20241014
DTSTAMP:20260422T145530
CREATED:20241002T092835Z
LAST-MODIFIED:20241002T092835Z
UID:12293-1728777600-1728863999@ecomanifestations-alsace.fr
SUMMARY:Vide-greniers - Neuwillers-lès-Saverne
DESCRIPTION:Le vide-greniers organisé par les EUL aura lieu dimanche 13 octobre. Différentes animations sont prévues\, notamment pour découvrir les activités de l’association. \nAu menu le midi\, sur réservation\, seront servis des moules frites. Rendez-vous dés 8h aux EUL 19 rue du cerf à Neuwiller-lès-Saverne. L’évènement se termine à 17h. Les inscriptions se font par téléphone au 03 88 70 00 54 ou par mail info@eul.alsace. \nCet accompagnement a été pris en charge par le Smictom de Saverne dans le cadre de son partenariat avec EMA. \nEvénement labellisé niveau 2\, félicitations aux organisateurs ! \nAffiche Vide-grenier EUL 2024 v2.0 \nFlyer Vide-grenier EUL 2024 v1.0
URL:https://ecomanifestations-alsace.fr/event/vide-greniers-neuwillers-les-saverne/
END:VEVENT
BEGIN:VEVENT
DTSTART;VALUE=DATE:20241019
DTEND;VALUE=DATE:20241021
DTSTAMP:20260422T145530
CREATED:20241002T093306Z
LAST-MODIFIED:20241002T093306Z
UID:12297-1729296000-1729468799@ecomanifestations-alsace.fr
SUMMARY:Fou de Trucks Festival - Oberhaslach
DESCRIPTION:Nous vous donnons rendez-vous à Oberhaslach\, pour la 3ème édition du Fou de Trucks Festival\, les 19 20 octobre 2024 \n  © OTMM   \n\nUne vingtaine de Food trucks vont proposer leurs plats agrémentés de produits de saison. \nDe la cuisine locale\, mais également des spécialités qui viennent d’ailleurs\, vos papilles partiront en voyage du côté de l’Asie\, de l’Afrique\, du Liban\, de la Sicile\, de la Grèce et encore d’autres destinations à découvrir. Mais aussi des concerts\,  démonstrations et initiations de danse\, expositions\, ateliers\, et des animations pour petits et grands\, notamment une après-midi jeux de société samedi 19 octobre proposée par Rue des jeux à Mutzig ( gratuit ) \nCet accompagnement a été pris en charge par le Select’Om dans le cadre de son partenariat avec EMA. \nEvénement labellisé niveau 1 de notre label\, félicitations !
URL:https://ecomanifestations-alsace.fr/event/fou-de-trucks-festival-oberhaslach/
END:VEVENT
BEGIN:VEVENT
DTSTART;VALUE=DATE:20241020
DTEND;VALUE=DATE:20241021
DTSTAMP:20260422T145530
CREATED:20241002T095528Z
LAST-MODIFIED:20241002T095528Z
UID:12304-1729382400-1729468799@ecomanifestations-alsace.fr
SUMMARY:BelforTrail - Belfort
DESCRIPTION:Rendez-vous le dimanche 20 octobre 2024 à la 13ème édition du BelforTrail ! \nRéservez dès maintenant cette date pour réaliser votre challenge automnal sur les sentiers vosgiens\, à l’assaut du Ballon d’Alsace. \n3 formats de courses\, pour satisfaire les appétits de chacune et chacun ! \nUne course (gratuite) a été ajoutée cette année pour les collégiens. \nPour vous inscrire : https://forms.registration4all.com/EventRegistration/Register_Sport_Event.aspx?EventID=200820&RORG=OW
URL:https://ecomanifestations-alsace.fr/event/belfortrail-belfort-2/
END:VEVENT
BEGIN:VEVENT
DTSTART;VALUE=DATE:20241027
DTEND;VALUE=DATE:20241028
DTSTAMP:20260422T145530
CREATED:20241002T100213Z
LAST-MODIFIED:20241002T100213Z
UID:12306-1729987200-1730073599@ecomanifestations-alsace.fr
SUMMARY:Salon Emmaüs vente solidaire de livre et d'objets de seconde main - Strasbourg
DESCRIPTION:QUAND ? Le 27/10/2024 de 9h à 18h\nOU? Au Parc des Expositions de Strasbourg \nPour cet événement\, une quarantaine de groupes Emmaüs du Grand Est\, de France et d’Europe seront réunis pour :\n– une grande vente d’objets de seconde main (sur environ 4000m2)\,\n– un salon du livre d’occasion solidaire (sur 2000-2500 m2) avec des stands de vente de livres apportés par les groupes Emmaüs et des associations locales autour du livre\,\n– un espace d’exposition de nos projets\,\n– un espace convivial\, de débat et de conférence avec des auteurs ·rices engagés ·es et des acteurs ·trices associatifs ·ves\,\n– Des animations artistiques et musicales\, en déambulation et sur scène. \nLa recette de cette vente sera attribuée à Emmaüs International. \nLe lien vers l’événement Facebook est juste ici. \n \nEvénement accompagné par notre équipe pour la première fois cette année !
URL:https://ecomanifestations-alsace.fr/event/salon-emmaus-vente-solidaire-de-livre-et-dobjets-de-seconde-main-strasbourg/
END:VEVENT
END:VCALENDAR